BEGIN:VCALENDAR
VERSION:2.0
PRODID:-//ChamberMaster//Event Calendar 2.0//EN
METHOD:PUBLISH
X-PUBLISHED-TTL:P3D
REFRESH-INTERVAL:P3D
CALSCALE:GREGORIAN
BEGIN:VEVENT
DTSTART:20250615T150000Z
DTEND:20250615T190000Z
X-MICROSOFT-CDO-ALLDAYEVENT:FALSE
SUMMARY:Join Us This Sunday for Father’s Day Brunch at the Afton House Inn!
DESCRIPTION:Join Us This Sunday for Father's Day Brunch at the Afton House Inn!\n\nCelebrate Dad with a delicious brunch in a beautiful setting.\n\nWe look forward to making it a memorable day for the whole family!
X-ALT-DESC;FMTTYPE=text/html:<p>Join Us This Sunday for Father&rsquo\;s Day Brunch at the Afton House Inn!</p>\n\n<p>Celebrate Dad with a delicious brunch in a beautiful setting.</p>\n\n<p>We look forward to making it a memorable day for the whole family!</p>\n
LOCATION:Afton House Inn
UID:e.257.43449
SEQUENCE:3
DTSTAMP:20260422T061145Z
URL:https://greaterstillwaterchamber.com/events/details/join-us-this-sunday-for-father-s-day-brunch-at-the-afton-house-inn-43449
END:VEVENT

END:VCALENDAR
