BEGIN:VCALENDAR
VERSION:2.0
PRODID:-//ChamberMaster//Event Calendar 2.0//EN
METHOD:PUBLISH
X-PUBLISHED-TTL:P3D
REFRESH-INTERVAL:P3D
CALSCALE:GREGORIAN
BEGIN:VEVENT
DTSTART:20251130T173000Z
DTEND:20251130T190000Z
X-MICROSOFT-CDO-ALLDAYEVENT:FALSE
SUMMARY:Join the Afton House Inn and Studio Louise Flowers for a Holiday Wreath Workshop
DESCRIPTION:Unleash your creativity and get into the festive spirit at our Holiday Wreath Making Workshop - let's deck the halls together! Join Studio Louise Flowers at the Afton House Inn for a creative workshop and get ready for the holidays!\n\nUsing a variety of seasonal greens and fresh and dried materials we will create a one of a kind holiday wreath for you to welcome your guests and the holiday season.\n\n\n**Ticket includes a glass of house wine from Swirl Wine Bar! (cash bar available)\n\n**Event is hosted at the Swirl Wine Bar at the Afton House Inn
X-ALT-DESC;FMTTYPE=text/html:<div>Unleash your creativity and get into the festive spirit at our Holiday Wreath Making Workshop - let&#39\;s deck the halls together!&nbsp\;Join Studio Louise Flowers at the&nbsp\;Afton House Inn&nbsp\;for a creative workshop and get ready for the holidays!<br />\nUsing a variety of seasonal greens and fresh and dried materials we will create a one of a kind holiday wreath for you to welcome your guests and the holiday season.</div>\n\n<div>\n<p>**Ticket includes a glass of house wine from Swirl Wine Bar! (cash bar available)</p>\n\n<p>**Event is hosted at the Swirl Wine Bar at the Afton House Inn</p>\n\n<div><br />\n&nbsp\;</div>\n</div>\n
LOCATION:Event is hosted at the Swirl Wine Bar at the Afton House Inn
UID:e.257.46624
SEQUENCE:3
DTSTAMP:20260421T215952Z
URL:https://greaterstillwaterchamber.com/events/details/join-the-afton-house-inn-and-studio-louise-flowers-for-a-holiday-wreath-workshop-46624
END:VEVENT

END:VCALENDAR
