BEGIN:VCALENDAR
VERSION:2.0
PRODID:-//ChamberMaster//Event Calendar 2.0//EN
METHOD:PUBLISH
X-PUBLISHED-TTL:P3D
REFRESH-INTERVAL:P3D
CALSCALE:GREGORIAN
BEGIN:VEVENT
DTSTART:20241211T000000Z
DTEND:20241211T030000Z
X-MICROSOFT-CDO-ALLDAYEVENT:FALSE
SUMMARY:Join AR Workshop at the Afton House Inn for our Afton Holiday Wine and Weave Workshop December 10th\,2024 6pm-9pm!
DESCRIPTION:Join AR Workshop at the Afton House Inn for our Afton Holiday Wine and Weave Workshop! Guests will enjoy a glass of house wine while making their choice of a chunky knit blanket ($108) or a chunky knit gnome ($68). Our instructors will lead you every step of the way to create a beautiful holiday gift for yourself or a special someone. It's a perfect event to gather for a girls night out\, a family celebration or even just by yourself! You can register for this event at: https://www.arworkshop.com/events/stillwatermn/468085/
X-ALT-DESC;FMTTYPE=text/html:<span style="color:rgb(36\, 36\, 36)\; font-size:15px">Join&nbsp\;</span><span style="color:rgb(36\, 36\, 36)\; font-size:15px">AR</span><span style="color:rgb(36\, 36\, 36)\; font-size:15px">&nbsp\;Workshop at the Afton House Inn for our Afton Holiday Wine and Weave Workshop! Guests will enjoy a glass of house wine while making their choice of a chunky knit blanket&nbsp\;($108)&nbsp\;or a chunky knit gnome ($68). Our instructors will lead you every step of the way to create a beautiful holiday gift for yourself or a special someone. It&#39\;s a perfect event to gather for a girls night out\, a family celebration or even just by yourself! You can register for this event at:&nbsp\;</span><a href="https://www.arworkshop.com/events/stillwatermn/468085/" style="border: 0px\; font-variant-numeric: inherit\; font-variant-east-asian: inherit\; font-variant-alternates: inherit\; font-variant-position: inherit\; font-stretch: inherit\; font-size: 15px\; line-height: inherit\; font-family: &quot\;Segoe UI&quot\;\, &quot\;Segoe UI Web (West European)&quot\;\, -apple-system\, BlinkMacSystemFont\, Roboto\, &quot\;Helvetica Neue&quot\;\, sans-serif\; font-optical-sizing: inherit\; font-size-adjust: inherit\; font-kerning: inherit\; font-feature-settings: inherit\; font-variation-settings: inherit\; margin: 0px\; padding: 0px\; vertical-align: baseline\;" title="https://www.arworkshop.com/events/stillwatermn/468085/">https://www.<span style="color:inherit">ar</span>workshop.com/events/stillwatermn/468085/</a>
LOCATION:The Afton House Inn 3291 St. Croix Trail S. Afton\, MN\,55001
UID:e.257.39748
SEQUENCE:3
DTSTAMP:20260422T174238Z
URL:https://greaterstillwaterchamber.com/events/details/join-ar-workshop-at-the-afton-house-inn-for-our-afton-holiday-wine-and-weave-workshop-december-10th-2024-6pm-9pm-39748
END:VEVENT

END:VCALENDAR
