BEGIN:VCALENDAR
VERSION:2.0
PRODID:-//ChamberMaster//Event Calendar 2.0//EN
METHOD:PUBLISH
X-PUBLISHED-TTL:P3D
REFRESH-INTERVAL:P3D
CALSCALE:GREGORIAN
BEGIN:VEVENT
DTSTART:20231010T210000Z
DTEND:20231011T010000Z
X-MICROSOFT-CDO-ALLDAYEVENT:FALSE
SUMMARY:Jersey Mikes Fundraiser Youth Service Bureau COTTAGE GROVE
DESCRIPTION:Good goes beyond the sub! Join us Tuesday\, October 10th\n\nin support of Youth Service Bureau. We're happily donating 50% of sales\, so stop by\, enjoy some great subs\, and help Jersey Mike's support this worthy cause.\n\nMention Youth Service Bureau while ordering in store or type it in the special instructions section when ordering Online.
X-ALT-DESC;FMTTYPE=text/html:Good goes beyond the sub! Join us Tuesday\, October 10th<br />\nin support of Youth Service Bureau. We&rsquo\;re happily donating 50% of sales\, so stop by\, enjoy some great subs\, and help Jersey Mike&rsquo\;s support this worthy cause.<br />\nMention Youth Service Bureau while ordering in store or type it in the special instructions section when ordering Online.<br />\n&nbsp\;
LOCATION:COTTAGE GROVE JERSEY MIKES 8800 E POINT DOUGLAS RD S COTTAGE GROVE MN 55016
UID:e.257.36575
SEQUENCE:3
DTSTAMP:20260423T054233Z
URL:https://greaterstillwaterchamber.com/events/details/jersey-mikes-fundraiser-youth-service-bureau-cottage-grove-36575
END:VEVENT

END:VCALENDAR
