BEGIN:VCALENDAR
VERSION:2.0
PRODID:-//ChamberMaster//Event Calendar 2.0//EN
METHOD:PUBLISH
X-PUBLISHED-TTL:P3D
REFRESH-INTERVAL:P3D
CALSCALE:GREGORIAN
BEGIN:VEVENT
DTSTART:20240524T233000Z
DTEND:20240525T013000Z
X-MICROSOFT-CDO-ALLDAYEVENT:FALSE
SUMMARY:Italian Sunset Dinner Cruise
DESCRIPTION:Friday Italian Sunset Dinner Cruise\n\n\nSavor the beauty and romance of the Scenic St. Croix River. \n\nEnjoy a fabulous dinner buffet and evening.\n\nMenu\n\nChicken Marsala (Gluten Free)\n\nHouse Made Meat Lasagna\n\nMostaccioli with Red Sauce\n\nChef's seasonal vegetable\n\nTomato\, Cucumber & Fresh Mozzarella Salad\n\nCaesar Salad\n\nItalian Cold Pasta Salad and Italian Bean Salad\n\nGarlic  Bread \n\nCoffee
X-ALT-DESC;FMTTYPE=text/html:<div style="text-align:center"><u><span style="font-size:16px"><span style="color:#0000FF"><strong><span style="font-family:arial\,sans-serif">Friday Italian Sunset Dinner Cruise</span></strong></span></span></u></div>\n<br />\n<strong><span style="color:#333333"><span style="font-family:arial\,sans-serif"><span style="font-size:10.0pt">Savor the beauty and romance of the Scenic St. Croix River.&nbsp\;<br />\nEnjoy a fabulous dinner buffet and evening.</span></span></span></strong><br />\n<strong><u><span style="color:#333333"><span style="font-family:arial\,sans-serif"><span style="font-size:10.0pt">Menu</span></span></span></u></strong><br />\n<span style="color:#333333"><span style="font-family:arial\,sans-serif"><span style="font-size:10.0pt">Chicken Marsala (Gluten Free)<br />\nHouse Made Meat Lasagna<br />\nMostaccioli with Red Sauce<br />\nChef&#39\;s seasonal vegetable<br />\nTomato\, Cucumber &amp\; Fresh Mozzarella Salad<br />\nCaesar Salad<br />\nItalian Cold Pasta Salad and Italian Bean Salad<br />\nGarlic&nbsp\; Bread&nbsp\;</span></span></span><br />\n<span style="color:#333333"><span style="font-family:arial\,sans-serif"><span style="font-size:10.0pt">Coffee</span></span></span><br />\n&nbsp\;
LOCATION:98 Walnut Street Hudson\, WI 54016
UID:e.257.36928
SEQUENCE:3
DTSTAMP:20260422T144533Z
URL:https://greaterstillwaterchamber.com/events/details/italian-sunset-dinner-cruise-36928
END:VEVENT

END:VCALENDAR
