BEGIN:VCALENDAR
VERSION:2.0
PRODID:-//ChamberMaster//Event Calendar 2.0//EN
METHOD:PUBLISH
X-PUBLISHED-TTL:P3D
REFRESH-INTERVAL:P3D
CALSCALE:GREGORIAN
BEGIN:VEVENT
DTSTART:20240730T163000Z
DTEND:20240730T183000Z
X-MICROSOFT-CDO-ALLDAYEVENT:FALSE
SUMMARY:Italian Lunch cruise - St. Croix River Cruises
DESCRIPTION:2 Hour Cruise | Italian Lunch and Sightseeing Cruise!\nChicken Marsala\n\nMostaccioli with Red Sauce\n\nChef's Seasonal vegetable\n\nCaesar Salad\n\nItalian Cold Pasta Salad\n\nGarlic Bread Rolls\n\nChef's Choice Dessert\n\n\n\nCash Bar for Cocktails\, Beer\, Wine and Soft Drink Beverages\nIf you are booking a large party we suggest you reserve tickets all at one time\,\n\nso we may seat your group all together.\n\n\n\n	\n	Bar on board- Beer\, Wine\, Cocktails\, and Soft Drinks!\n	\n	\n	Cruise from 11:30am   1:30pm on select Mondays-Saturdays\n	\n\n\n\n\n** Menu items subject to change according to seasonality and availability
X-ALT-DESC;FMTTYPE=text/html:<h1><span style="color:rgb(255\, 140\, 0)">2 Hour Cruise | Italian Lunch and Sightseeing Cruise!</span></h1>\nChicken Marsala<br />\nMostaccioli with Red Sauce<br />\nChef&#39\;s Seasonal vegetable<br />\nCaesar Salad<br />\nItalian Cold Pasta Salad<br />\nGarlic Bread Rolls<br />\nChef&#39\;s Choice Dessert<br />\n<br />\nCash Bar for Cocktails\, Beer\, Wine and Soft Drink Beverages\n<h2><span style="font-size:14px">If you are booking a large party we suggest you reserve tickets all at one time\,<br />\nso we may seat your group all together.</span></h2>\n\n<hr />\n<ul>\n	<li>\n	<p>Bar on board- Beer\, Wine\, Cocktails\, and Soft Drinks!</p>\n	</li>\n	<li>\n	<p>Cruise from 11:30am &ndash\; 1:30pm on select Mondays-Saturdays</p>\n	</li>\n</ul>\n\n<p><br />\n** Menu items subject to change according to seasonality and availability</p>\n
LOCATION:98 Walnut Street Hudson\, Wi 54016
UID:e.257.37024
SEQUENCE:3
DTSTAMP:20260422T174103Z
URL:https://greaterstillwaterchamber.com/events/details/italian-lunch-cruise-st-croix-river-cruises-07-30-2024-37024
END:VEVENT

END:VCALENDAR
