BEGIN:VCALENDAR
VERSION:2.0
PRODID:-//ChamberMaster//Event Calendar 2.0//EN
METHOD:PUBLISH
X-PUBLISHED-TTL:P3D
REFRESH-INTERVAL:P3D
CALSCALE:GREGORIAN
BEGIN:VEVENT
DTSTART:20231007T163000Z
DTEND:20231007T183000Z
X-MICROSOFT-CDO-ALLDAYEVENT:FALSE
SUMMARY:Italian Fall colors Lunch cruise - St. Croix River Cruises
DESCRIPTION:Italian Lunch Cruise\n\n\n\nMenu:\n\n \n\n	\n	Enjoy a 2 hour Italian Lunch Cruise and see the fall colors along the beautiful banks of the Scenic St. Croix River.\n	\n	\n	Enjoy a Cash Bar on board with Beer\, Wine\,\n\n	Cocktails and soft drinks!\n	\n	\n	Cruise from 11:30   1:30 on select Tuesday-Saturdays\n	\n\n\nA Buffet lunch will be served which included Chicken Marsala (Gluten Free)\n\nMostaccioli with Red Sauce\n\nChef's choice Hot Entree\n\nSeasonal Vegetable\n\nTomato\, Cucumber and Fresh Mozzarella Salad Mixed Green salad with vinaigrette & oil dressing\n\nItalian Cold Pasta Salad\n\nGarlic Rolls & butter\n\nDessert\n\n** Menu items subject to change according to seasonality and availability
X-ALT-DESC;FMTTYPE=text/html:<span style="color:#FF0000"><strong><span style="font-size:16px">Italian Lunch Cruise</span></strong></span><br />\n<br />\nMenu:<br />\n&nbsp\;\n<ul>\n	<li>\n	<p>Enjoy a 2 hour Italian Lunch Cruise and see the fall colors along the beautiful banks of the Scenic St. Croix River.</p>\n	</li>\n	<li>\n	<p>Enjoy a Cash Bar on board with Beer\, Wine\,<br />\n	Cocktails and soft drinks!</p>\n	</li>\n	<li>\n	<p>Cruise from 11:30 &ndash\; 1:30 on select Tuesday-Saturdays</p>\n	</li>\n</ul>\n\n<p>A Buffet lunch will be served which included Chicken Marsala (Gluten Free)<br />\nMostaccioli with Red Sauce<br />\nChef&#39\;s choice Hot Entree<br />\nSeasonal Vegetable<br />\nTomato\, Cucumber and Fresh Mozzarella Salad Mixed Green salad with vinaigrette &amp\; oil dressing<br />\nItalian Cold Pasta Salad<br />\nGarlic Rolls &amp\; butter<br />\nDessert</p>\n\n<p>** Menu items subject to change according to seasonality and availability</p>\n
LOCATION:98 Walnut Street Hudson\, WI
UID:e.257.36100
SEQUENCE:3
DTSTAMP:20260423T041435Z
URL:https://greaterstillwaterchamber.com/events/details/italian-fall-colors-lunch-cruise-st-croix-river-cruises-36100
END:VEVENT

END:VCALENDAR
