BEGIN:VCALENDAR
VERSION:2.0
PRODID:-//ChamberMaster//Event Calendar 2.0//EN
METHOD:PUBLISH
X-PUBLISHED-TTL:P3D
REFRESH-INTERVAL:P3D
CALSCALE:GREGORIAN
BEGIN:VEVENT
DTSTART:20200124T000000Z
DTEND:20200124T020000Z
X-MICROSOFT-CDO-ALLDAYEVENT:FALSE
SUMMARY:Inflammation Reduction Techniques
DESCRIPTION:Thursday\, January 23 6-8pm Do you feel like you are on a roller coaster regarding energy\, health\, weight? Reducing inflammation allows your body to heal\, lose excess weight\, and reduce future health issues. Five simple\, at home tests will be presented through which you can better know which foods\, exercise\, stress\, or improper sleep patterns are causing inflammation. Instructor: Don Slinger Cost: $5/free for co-op owners
X-ALT-DESC;FMTTYPE=text/html:Thursday\, January 23 6-8pm Do you feel like you are on a roller coaster regarding energy\, health\, weight? Reducing inflammation allows your body to heal\, lose excess weight\, and reduce future health issues. Five simple\, at home tests will be presented through which you can better know which foods\, exercise\, stress\, or improper sleep patterns are causing inflammation. Instructor: Don Slinger Cost: $5/free for co-op owners
LOCATION:River Market Co-op 221 N Main St. Stillwater\, MN
UID:e.257.30385
SEQUENCE:3
DTSTAMP:20260422T042627Z
URL:https://greaterstillwaterchamber.com/events/details/inflammation-reduction-techniques-30385
END:VEVENT

END:VCALENDAR
