BEGIN:VCALENDAR
VERSION:2.0
PRODID:-//ChamberMaster//Event Calendar 2.0//EN
METHOD:PUBLISH
X-PUBLISHED-TTL:P3D
REFRESH-INTERVAL:P3D
CALSCALE:GREGORIAN
BEGIN:VEVENT
DTSTART:20250517T160000Z
DTEND:20250517T220000Z
X-MICROSOFT-CDO-ALLDAYEVENT:FALSE
SUMMARY:IN BLOOM: Community Plant & Seed Swap
DESCRIPTION:IN BLOOM: Community Plant & Seed Swap\n\nJumpstart your garden this Spring at Lift Bridge!\n\nWe're teaming up with our friends at SFA - the Sustainable Farming Association of Minnesota to kick off spring with a FARM DAY parking lot party at the brewery. In Bloom is a celebration of community\, gardening\, and sustainability right here in our hometown of Stillwater.\n\n?? Swap Seeds. Share Plants. Drink Farm Day ??\n\nMeet fellow plant people\, farmers\, and hobbyists at this free\, all-ages celebration of Spring. We'll have a variety of awesome local vendors and FREE community tables to swap seeds\, plants\, and seedlings with fellow gardeners\, bring your own to swap! \n\n?? What's Happening? ??\n\n\n	\n	Community Tables: Bring your plants\, seeds\, and ideas to trade with others.\n	\n	\n	Vendors: Shop fresh and local at our vendor tables (11 AM - 5 PM)\n	\n\n\n                Davis Urban Farm // The Salty Hen Farm // SFA - Sustainable Farming Association of MN // Vendors in alphabetical order and subject to change\n\n\n	\n	Food Truck: The Rusty Kettle (11 AM - 7 PM)\n	\n	\n	Selfie Moment: Snap a pic with the real FARM DAY Truck!\n	\n	\n	No Cost to Attend or Swap: Yes\, you heard that right!\n	\n	\n	Featured Beer: FARM DAY Golden Ale\n	\n	\n	Giving Back: $1 from every Pint\, $0.50 from every Can & $2 from every Crowler sold of Farm Day during the event will be donated to SFA MN.\n	\n	\n	Would you like to DONATE directly to SFA? https://secure.sfa-mn.org/forms/farm-day-plant-and-seed-swap\n	\n\n\nTo learn more about our non-profit partner SFA MN\, Click Here: https://sfa-mn.org/\n\nThis is a free\, all-ages\, rain or shine event. See you out there! ??\n\nInterested in being a Vendor at this or future events? Email Events@LiftBridgeBrewery.com
X-ALT-DESC;FMTTYPE=text/html:<p>IN BLOOM:&nbsp\;Community Plant &amp\; Seed Swap</p>\n\n<p>Jumpstart your garden this Spring at Lift Bridge!</p>\n\n<p>We&#39\;re teaming up with our friends a<span style="color:#000000">t&nbsp\;</span><a href="https://www.facebook.com/SFA.MN" style="box-sizing: border-box\; background-color: transparent\; text-decoration-line: none\; color: rgb(192\, 49\, 26)\;" target="_blank"><span style="color:#000000">SFA - the Sustainable Farming Association of Minnesota</span></a><span style="color:#000000">&nbsp\;to kick off spring with a FARM DAY parking lot party at the brewery. In Bloom is a celebration of community\, gardenin</span>g\, and sustainability right here in our hometown of Stillwater.</p>\n\n<p>??&nbsp\;Swap Seeds. Share Plants.&nbsp\;Drink Farm Day&nbsp\;??<br />\nMeet fellow plant&nbsp\;people\, farmers\, and hobbyists at this free\,&nbsp\;all-ages celebration of Spring. We&#39\;ll have a variety of awesome local vendors and FREE community tables to swap seeds\, plants\, and seedlings with fellow gardeners\, bring your own to swap!&nbsp\;</p>\n\n<p>??&nbsp\;What&rsquo\;s Happening?&nbsp\;??</p>\n\n<ul>\n	<li>\n	<p>Community Tables: Bring your plants\, seeds\, and ideas to trade with others.</p>\n	</li>\n	<li>\n	<p><span style="color:#000000">Vendors: Shop fresh and local at our vendor tables&nbsp\;<em>(11 AM - 5 PM)</em></span></p>\n	</li>\n</ul>\n\n<p><span style="color:#000000">&nbsp\; &nbsp\; &nbsp\; &nbsp\; &nbsp\; &nbsp\; &nbsp\; &nbsp\;&nbsp\;</span><a href="https://www.facebook.com/davisurbanfarm" style="box-sizing: border-box\; background-color: transparent\; text-decoration-line: none\; color: rgb(192\, 49\, 26)\;" target="_blank"><span style="color:#000000">Davis Urban Farm</span></a><span style="color:#000000">&nbsp\;//&nbsp\;</span><a href="https://www.instagram.com/thesaltyhenfarm/" style="box-sizing: border-box\; background-color: transparent\; text-decoration-line: none\; color: rgb(192\, 49\, 26)\;" target="_blank"><span style="color:#000000">The Salty Hen Farm</span></a><span style="color:#000000">&nbsp\;//&nbsp\;</span><a href="https://sfa-mn.org/" style="box-sizing: border-box\; background-color: transparent\; text-decoration-line: none\; color: rgb(192\, 49\, 26)\;" target="_blank"><span style="color:#000000">SFA - Sustainable Farming Association of MN</span></a><span style="color:#000000">&nbsp\;//&nbsp\;<em>Vendors in alphabetical order and subject to change</em></span></p>\n\n<ul>\n	<li>\n	<p><span style="color:#000000">Food Truck:&nbsp\;</span><a href="https://www.facebook.com/profile.php?id=100067117861630" style="box-sizing: border-box\; background-color: transparent\; text-decoration-line: none\; color: rgb(192\, 49\, 26)\;" target="_blank"><span style="color:#000000">The Rusty Kettle</span></a><span style="color:#000000">&nbsp\;<em>(11 AM - 7 PM)</em></span></p>\n	</li>\n	<li>\n	<p><span style="color:#000000">Selfie Moment: Snap a pic with the real&nbsp\;FARM DAY Truck!</span></p>\n	</li>\n	<li>\n	<p><span style="color:#000000">No Cost to Attend or Swap: Yes\, you heard that right!</span></p>\n	</li>\n	<li>\n	<p><span style="color:#000000">Featured Beer: FARM DAY Golden Ale</span></p>\n	</li>\n	<li>\n	<p><span style="color:#000000">Giving Back:&nbsp\;$1 from every Pint\, $0.50 from every Can &amp\; $2 from every Crowler sold of Farm Day during the event will be donated to SFA MN.</span></p>\n	</li>\n	<li>\n	<p><span style="color:#000000">Would you like to DONATE directly to SFA?&nbsp\;</span>https://secure.sfa-mn.org/forms/farm-day-plant-and-seed-swap</p>\n	</li>\n</ul>\n\n<p><span style="color:#000000">To learn more about our non-profit partner SFA MN\, Click Here:&nbsp\;</span><a href="https://sfa-mn.org/" style="box-sizing: border-box\; background-color: transparent\; text-decoration-line: none\; color: rgb(192\, 49\, 26)\;" target="_blank"><span style="color:#000000">https://sfa-mn.org/</span></a></p>\n\n<p><span style="color:#000000">This is a free\, all-ages\, rain or shine event. See you out there!&nbsp\;??</span></p>\n\n<p><em><span style="color:#000000">Interested in being a Vendor at this or future events? Email&nbsp\;</span><a href="mailto:Events@LiftBridgeBrewery.com" style="box-sizing: border-box\; background-color: transparent\; text-decoration-line: none\; color: rgb(192\, 49\, 26)\;" target="_blank"><span style="color:#000000">Events@LiftBridgeBrewery.com</span></a></em></p>\n\n<p>&nbsp\;</p>\n
LOCATION:Lift Bridge Brewery\, 1900 Tower Drive\, Stillwater\, MN 55082
UID:e.257.43383
SEQUENCE:3
DTSTAMP:20260422T073328Z
URL:https://greaterstillwaterchamber.com/events/details/in-bloom-community-plant-seed-swap-43383
END:VEVENT

END:VCALENDAR
