BEGIN:VCALENDAR
VERSION:2.0
PRODID:-//ChamberMaster//Event Calendar 2.0//EN
METHOD:PUBLISH
X-PUBLISHED-TTL:P3D
REFRESH-INTERVAL:P3D
CALSCALE:GREGORIAN
BEGIN:VEVENT
DTSTART:20241218T003000Z
DTEND:20241218T020000Z
X-MICROSOFT-CDO-ALLDAYEVENT:FALSE
SUMMARY:Class: Hormones\, Cravings\, and Mindfulness
DESCRIPTION:During the holiday season\, we often attend parties\, reconnect with old friends\, rush around to complete tasks\, and stay busy. This festive time of year may affect our ability to stay present when faced with cravings. Let's take advantage of this month's educational session to explore our cravings\, understand their triggers\, and learn how to crush the crave.
X-ALT-DESC;FMTTYPE=text/html:<p><span style="color:rgb(85\, 83\, 83)\; font-family:open sans\,sans-serif\; font-size:14px">During the holiday season\, we often attend parties\, reconnect with old friends\, rush around to complete tasks\, and stay busy. This festive time of year may affect our ability to stay present when faced with cravings. Let&#39\;s take advantage of this month&#39\;s educational session to explore our cravings\, understand their triggers\, and learn how to crush the crave.</span></p>\n
LOCATION:Stronger Wellness and Nutrition 5805A Neal Avenue North Stillwater\, MN 55082 (next to Kowalski's Stillwater)
UID:e.257.38724
SEQUENCE:3
DTSTAMP:20260422T173057Z
URL:https://greaterstillwaterchamber.com/events/details/hormones-cravings-and-mindfulness-38724
END:VEVENT

END:VCALENDAR
