BEGIN:VCALENDAR
VERSION:2.0
PRODID:-//ChamberMaster//Event Calendar 2.0//EN
METHOD:PUBLISH
X-PUBLISHED-TTL:P3D
REFRESH-INTERVAL:P3D
CALSCALE:GREGORIAN
BEGIN:VEVENT
DTSTART:20240628T170000Z
DTEND:20240629T000000Z
X-MICROSOFT-CDO-ALLDAYEVENT:FALSE
SUMMARY:Hometown Hero Outdoors Golf Tournament
DESCRIPTION:Hometown Hero Outdoors is excited to announce that it will be moving Operation Birdie - 7th Annual golf tournament to the Oak Glen Golf Course and Banquet Facility\, in Stillwater.\n\n \n\n\n\nHometown Hero Outdoors provides outdoor recreational activities and therapeutic experiences to military service members\, veterans and first responders as a means of promoting physical and mental well-being\, fostering camaraderie\, and easing the transition back to civilian life. Our activities\, such as fishing trips\, hunting excursions\, and other outdoor adventures\, have been shown to have a profound impact on the mental health of our participants.
X-ALT-DESC;FMTTYPE=text/html:<div>\n<div>Hometown Hero Outdoors is excited to announce that it will be moving <span style="font-family:inherit"><a class="x1i10hfl xjbqb8w x1ejq31n xd10rxx x1sy0etr x17r0tee x972fbf xcfux6l x1qhh985 xm0m39n x9f619 x1ypdohk xt0psk2 xe8uvvx xdj266r x11i5rnm xat24cr x1mh8g0r xexx8yu x4uap5 x18d9i69 xkhd6sd x16tdsg8 x1hl2dhg xggy1nq x1a2a7pz xt0b8zv x1fey0fg xo1l8bm" href="https://www.facebook.com/events/394050543581276/?__cft__[0]=AZWGmdh0TeirGum6UTZAQw2-2dPlEcxuDX43frpV2WYsc8w1ET1P3qgvbon8Fd083ZJgp1tJTYK9uAixJhkQ59ZeS_SPqGjhMbgxOi7qOQ-5vGw8B5bl1mYFuYBL_hQ2WJOJRsRPH0DHkPgb1c1kqmrc&amp\;__tn__=-UK-R" style="color: var(--blue-link)\; cursor: pointer\; text-decoration-line: none\; outline: none\; list-style: none\; margin: 0px\; text-align: inherit\; border-style: none\; -webkit-tap-highlight-color: transparent\; padding: 0px\; border-width: 0px\; box-sizing: border-box\; touch-action: manipulation\; background-color: transparent\; display: inline\; font-family: inherit\;" tabindex="0"><span style="font-family:inherit">Operation Birdie - 7th Annual</span></a></span> golf tournament to the Oak Glen Golf Course and Banquet Facility\, in Stillwater.<br />\n&nbsp\;</div>\n</div>\n\n<div>\n<div>Hometown Hero Outdoors provides outdoor recreational activities and therapeutic experiences to military service members\, veterans and first responders as a means of promoting physical and mental well-being\, fostering camaraderie\, and easing the transition back to civilian life. Our activities\, such as fishing trips\, hunting excursions\, and other outdoor adventures\, have been shown to have a profound impact on the mental health of our participants.</div>\n</div>\n
LOCATION:Oak Glen Golf Course - Stillwater\, MN
UID:e.257.37188
SEQUENCE:3
DTSTAMP:20260422T161204Z
URL:https://greaterstillwaterchamber.com/events/details/hometown-hero-outdoors-golf-tournament-37188
END:VEVENT

END:VCALENDAR
