BEGIN:VCALENDAR
VERSION:2.0
PRODID:-//ChamberMaster//Event Calendar 2.0//EN
METHOD:PUBLISH
X-PUBLISHED-TTL:P3D
REFRESH-INTERVAL:P3D
CALSCALE:GREGORIAN
BEGIN:VEVENT
DTSTART:20231222T010000Z
DTEND:20231222T030000Z
X-MICROSOFT-CDO-ALLDAYEVENT:FALSE
SUMMARY:Home for the Holidays
DESCRIPTION:Experience a musical celebration like none other this holiday season with St. Croix Valley Opera's "Home for the Holidays" Concert!\n\n \n\nThey say there's no place like home for the holidays\, no matter how far away you roam and we couldn't agree more!\n\n \n\nGet ready to ring in the joy of the season with our special holiday concert:\n\n \n\n"Home for the Holidays"\n\n \n\nFor the last five years\, St. Croix Valley Opera has been proud to bring nationally and internationally acclaimed performers to the St. Croix River Valley's backyard.\n\n\n\nThis December\, we are thrilled to bring you the exciting young performers who have left the valley's backyard to share their gifts with the world\, as they come home for the holidays!\n\n \n\nJoin us for an evening full of holiday cheer and the warm spirit of the season. From beloved holiday favorites to contemporary hits\, there's something for the whole family to enjoy!\n\n \n\nFeaturing:\n\nKatherine Henly\, soprano\n\nSolveig Neseth\, soprano\n\nAva Karlstad\, mezzo-soprano\n\nElise Karlstad\, mezzo-soprano\n\nJack Swanson\, tenor\n\nClark Weyrauch\, tenor\n\nBrodrick McBride\, baritone\n\nGretchen Perkins\, pianist\n\n \n\nMore information and tickets at https://www.scvopera.org/home-for-the-holidays
X-ALT-DESC;FMTTYPE=text/html:<div>Experience a musical celebration like none other this holiday season with St. Croix Valley Opera&#39\;s &quot\;Home for the Holidays&quot\; Concert!<br />\n&nbsp\;</div>\n\n<div>They say there&rsquo\;s no place like home for the holidays\, no matter how far away you roam and we couldn&rsquo\;t agree more!<br />\n&nbsp\;</div>\n\n<div>Get ready to ring in the joy of the season with our special holiday concert:<br />\n&nbsp\;</div>\n\n<div>&ldquo\;Home for the Holidays&rdquo\;<br />\n&nbsp\;</div>\n\n<div>For the last five years\, St. Croix Valley Opera has been proud to bring nationally and internationally acclaimed performers to the St. Croix River Valley&rsquo\;s backyard.<br />\n<br />\nThis December\, we are thrilled to bring you the exciting young performers who have left the valley&rsquo\;s backyard to share their gifts with the world\, as they come home for the holidays!<br />\n&nbsp\;</div>\n\n<div>Join us for an evening full of holiday cheer and the warm spirit of the season. From beloved holiday favorites to contemporary hits\, there&rsquo\;s something for the whole family to enjoy!<br />\n&nbsp\;</div>\n\n<div>Featuring:<br />\nKatherine Henly\, soprano<br />\nSolveig Neseth\, soprano<br />\nAva Karlstad\, mezzo-soprano<br />\nElise Karlstad\, mezzo-soprano<br />\nJack Swanson\, tenor<br />\nClark Weyrauch\, tenor<br />\nBrodrick McBride\, baritone<br />\nGretchen Perkins\, pianist<br />\n&nbsp\;</div>\n\n<div>More information and tickets at&nbsp\;<a class="x1i10hfl xjbqb8w x6umtig x1b1mbwd xaqea5y xav7gou x9f619 x1ypdohk xt0psk2 xe8uvvx xdj266r x11i5rnm xat24cr x1mh8g0r xexx8yu x4uap5 x18d9i69 xkhd6sd x16tdsg8 x1hl2dhg xggy1nq x1a2a7pz xt0b8zv x1fey0fg" href="https://www.scvopera.org/home-for-the-holidays?fbclid=IwAR0iQkUiqQVN-p1-83OvHHADzCPjTI5KkMK4baQd79fzUsU3NJ3jJBTiYPM" rel="nofollow noreferrer" style="color: var(--blue-link)\; cursor: pointer\; text-decoration-line: none\; outline: none\; border-width: 0px\; border-style: initial\; border-color: initial\; list-style: none\; margin: 0px\; text-align: inherit\; padding: 0px\; box-sizing: border-box\; background-color: transparent\; -webkit-tap-highlight-color: transparent\; touch-action: manipulation\; display: inline\; font-family: inherit\;" tabindex="0" target="_blank">https://www.scvopera.org/home-for-the-holidays</a></div>\n
LOCATION:Trinity Lutheran Church\, Stillwater\, MN
UID:e.257.36655
SEQUENCE:3
DTSTAMP:20260423T003714Z
URL:https://greaterstillwaterchamber.com/events/details/home-for-the-holidays-36655
END:VEVENT

END:VCALENDAR
