BEGIN:VCALENDAR
VERSION:2.0
PRODID:-//ChamberMaster//Event Calendar 2.0//EN
METHOD:PUBLISH
X-PUBLISHED-TTL:P3D
REFRESH-INTERVAL:P3D
CALSCALE:GREGORIAN
BEGIN:VEVENT
DTSTART;VALUE=DATE:20240324
DTEND;VALUE=DATE:20240401
TRANSP:TRANSPARENT
X-MICROSOFT-CDO-ALLDAYEVENT:TRUE
SUMMARY:Holy Week at St. Croix United Church
DESCRIPTION:We invite all to join us as we follow Jesus through Jerusalem... to his last gathering with friends... to the darkness that descends with his death... and the celebration that follows with his rising!\n\n\n\nWe will worship with other faith communities on Palm Sunday near the Lift Bridge in Stillwater\; join with Bethlehem Lutheran on Good Friday\; and experience an outdoor Easter Sunrise (weather permitting) at People's Park.\n\n\n\nCome to one - or all - of these meaningful services. We'll be glad you're here!\n\n\n\n(See our website for more details: www.stcroixunitedchurch.org)
X-ALT-DESC;FMTTYPE=text/html:We invite all to join us as we follow Jesus through Jerusalem... to his last gathering with friends... to the darkness that descends with his death... and the celebration that follows with his rising!<br />\n<br />\nWe will worship with other faith communities on Palm Sunday near the Lift Bridge in Stillwater\; join with Bethlehem Lutheran on Good Friday\; and experience an outdoor Easter Sunrise (weather permitting) at People&#39\;s Park.<br />\n<br />\nCome to one - or all - of these meaningful services. We&#39\;ll be glad you&#39\;re here!<br />\n<br />\n(See our website for more details: www.stcroixunitedchurch.org)
LOCATION:
UID:e.257.37165
SEQUENCE:3
DTSTAMP:20260422T202042Z
URL:https://greaterstillwaterchamber.com/events/details/holy-week-at-st-croix-united-church-37165
END:VEVENT

END:VCALENDAR
