BEGIN:VCALENDAR
VERSION:2.0
PRODID:-//ChamberMaster//Event Calendar 2.0//EN
METHOD:PUBLISH
X-PUBLISHED-TTL:P3D
REFRESH-INTERVAL:P3D
CALSCALE:GREGORIAN
BEGIN:VEVENT
DTSTART;VALUE=DATE:20200121
DTEND;VALUE=DATE:20200122
TRANSP:TRANSPARENT
X-MICROSOFT-CDO-ALLDAYEVENT:TRUE
SUMMARY:Heart Safe Community
DESCRIPTION:Tom Ballis\, the Deputy Fire Chief will be giving a presentation on a Heart Safe Community.
X-ALT-DESC;FMTTYPE=text/html:Tom Ballis\, the Deputy Fire Chief will be giving a presentation on a Heart Safe Community.
LOCATION:The Lowell Inn\, Stillwater
UID:e.257.30398
SEQUENCE:3
DTSTAMP:20260422T043210Z
URL:https://greaterstillwaterchamber.com/events/details/heart-safe-community-30398
END:VEVENT

END:VCALENDAR
