BEGIN:VCALENDAR
VERSION:2.0
PRODID:-//ChamberMaster//Event Calendar 2.0//EN
METHOD:PUBLISH
X-PUBLISHED-TTL:P3D
REFRESH-INTERVAL:P3D
CALSCALE:GREGORIAN
BEGIN:VEVENT
DTSTART:20240618T233000Z
DTEND:20240619T010000Z
X-MICROSOFT-CDO-ALLDAYEVENT:FALSE
SUMMARY:Healthy Weight and Breaking Through a Plateau June 18
DESCRIPTION:Healthy Weight and  Breaking Through a Plateau\n\n$35.00 with Jen Sletten\n\n Tuesday June 18th at 6:30pm\n\nDo you already eat "reasonable" and wonder why you're not losing weight?  Are you looking for a way to "biohack" and improve your metabolism?  Have you ever wondered about nutrients that can support your weight loss efforts or is there a more effective way to exercise for fat loss?  Are you seeing all the ads now for weight loss meds like Ozempic/Wegovy or CGM (glucose monitoring\, or Noom) and wonder if any of those routes could work and are they even safe for you?  Come to this overview from an expert on all the "pieces" pictured above here at STRONGER and walk away with what can work best for you for enhancing your healthy weight efforts.\n\n\n\nRegister: https://www.strongerwellnessandnutrition.com/about-1-1
X-ALT-DESC;FMTTYPE=text/html:<h4 style="text-align:center">Healthy Weight and&nbsp\; Breaking Through a Plateau</h4>\n\n<p style="text-align:center">$35.00 with Jen Sletten</p>\n\n<p style="text-align:center"><strong>&nbsp\;Tuesday June 18th at 6:30pm</strong></p>\n\n<p style="text-align:center">Do you already eat &quot\;reasonable&quot\; and wonder why you&#39\;re not losing weight?&nbsp\; Are you looking for a way to &quot\;biohack&quot\; and improve your metabolism?&nbsp\; Have you ever wondered about nutrients that can support your weight loss efforts or is there a more effective way to exercise for fat loss?&nbsp\; Are you seeing all the ads now for weight loss meds like Ozempic/Wegovy or CGM (glucose monitoring\, or Noom) and wonder if any of those routes could work and are they even safe for you?&nbsp\; Come to this overview from an expert on all the &quot\;pieces&quot\; pictured above here at STRONGER and walk away with what can work best for you for enhancing your healthy weight efforts.<br />\n<br />\nRegister:&nbsp\;<a href="https://www.strongerwellnessandnutrition.com/about-1-1" style="font-family: Helvetica\; font-size: 12px\;">https://www.strongerwellnessandnutrition.com/about-1-1</a></p>\n
LOCATION:Stronger Wellness and Nutrition 5805A Neal Avenue N Stillwater\, MN 55082 By Kowalski's Grocery Market
UID:e.257.37229
SEQUENCE:3
DTSTAMP:20260422T161257Z
URL:https://greaterstillwaterchamber.com/events/details/healthy-weight-and-breaking-through-a-plateau-june-18-37229
END:VEVENT

END:VCALENDAR
