BEGIN:VCALENDAR
VERSION:2.0
PRODID:-//ChamberMaster//Event Calendar 2.0//EN
METHOD:PUBLISH
X-PUBLISHED-TTL:P3D
REFRESH-INTERVAL:P3D
CALSCALE:GREGORIAN
BEGIN:VEVENT
DTSTART:20240229T150000Z
DTEND:20240229T230000Z
X-MICROSOFT-CDO-ALLDAYEVENT:FALSE
SUMMARY:HEADSHOT MINI SESSIONS at Kristina Lynn Photography & Design
DESCRIPTION:Special! ONE DAY ONLY!\n\nHeadshot Mini Sessions\n\nare now open for booking!\n\n\n\nDuring these exclusive sessions\, we'll capture your unique personality and shine a spotlight on your professional image. Whether you're a business owner\, entrepreneur\, or career professional\, having a high-quality headshot is essential for making a strong first impression in today's digital world.\n\n\n\n\n\nHEADSHOT MINI SESSIONS INCLUDE:\n\n  1 hour session + image selection time\n\n  Multiple outfits\n\n  2 High Resolution\, retouched digital files\n\nplus the option to purchase more\n\n\n\nOnly $390\n\n(Regular price: $690)\n\n\n\n\n\nONE DAY ONLY!  \n\nTHURSDAY\, FEBRUARY 29\n\nat the Stillwater Studio\n\nONLY 5 TIMESLOTS LEFT AVAILABLE
X-ALT-DESC;FMTTYPE=text/html:<span style="color:rgb(2\, 94\, 95)\; font-family:helvetica\; font-size:19px"><span style="color:rgb(0\, 0\, 0)"><strong>Special!</strong>&nbsp\;<strong>ONE DAY ONLY!</strong><br />\nHeadshot Mini Sessions<br />\nare&nbsp\;<strong>now open</strong>&nbsp\;for booking!</span></span><br />\n<br />\n<span style="color:rgb(2\, 94\, 95)\; font-family:helvetica\; font-size:15px"><span style="color:rgb(0\, 0\, 0)">During these exclusive sessions\, we&#39\;ll capture your unique personality and shine a spotlight on your professional image. Whether you&#39\;re a business owner\, entrepreneur\, or career professional\, having a high-quality headshot is essential for making a strong first impression in today&#39\;s digital world.</span></span><br />\n<br />\n<br />\n<strong><u><span style="font-size:18px">HEADSHOT MINI SESSIONS INCLUDE:</span></u></strong><br />\n<span style="color:rgb(0\, 0\, 0)\; font-family:helvetica\; font-size:11px"><span style="font-size:18px"><strong>&bull\; 1 hour session + image selection time</strong></span></span><br />\n<span style="color:rgb(2\, 94\, 95)\; font-family:helvetica\; font-size:18px"><span style="color:rgb(0\, 0\, 0)"><strong>&bull\; Multiple outfits</strong></span></span><br />\n<span style="color:rgb(0\, 0\, 0)\; font-family:helvetica\; font-size:11px"><span style="font-size:18px"><strong>&bull\; 2 High Resolution\, retouched digital files</strong></span><br />\n<span style="font-size:14px"><strong>plus the option to purchase more</strong></span></span><br />\n<br />\n<span style="color:rgb(0\, 0\, 0)\; font-family:helvetica\; font-size:11px"><span style="font-size:22px"><strong>Only $390</strong></span><br />\n<em><span style="font-size:14px">(Regular price: $690)</span></em></span><br />\n<br />\n<br />\n<span style="color:rgb(2\, 94\, 95)\; font-family:helvetica\; font-size:19px"><span style="color:rgb(0\, 0\, 0)">ONE DAY ONLY!&nbsp\;&nbsp\;</span></span><br />\n<span style="color:rgb(2\, 94\, 95)\; font-family:helvetica\; font-size:16px"><u><strong>THURSDAY\, FEBRUARY 29</strong></u><br />\n<span style="color:rgb(0\, 0\, 0)">at the Stillwater Studio</span><br />\n<span style="color:rgb(255\, 0\, 0)"><strong>ONLY 5 TIMESLOTS LEFT AVAILABLE</strong></span></span><span style="font-size:15px"> </span>
LOCATION:Kristina Lynn Photography & Design 118 Chestnut Street East Stillwater\, MN 55082
UID:e.257.37136
SEQUENCE:3
DTSTAMP:20260422T214200Z
URL:https://greaterstillwaterchamber.com/events/details/headshot-mini-sessions-at-kristina-lynn-photography-design-37136
END:VEVENT

END:VCALENDAR
