BEGIN:VCALENDAR
VERSION:2.0
PRODID:-//ChamberMaster//Event Calendar 2.0//EN
METHOD:PUBLISH
X-PUBLISHED-TTL:P3D
REFRESH-INTERVAL:P3D
CALSCALE:GREGORIAN
BEGIN:VEVENT
DTSTART:20191101T141500Z
DTEND:20191102T000000Z
X-MICROSOFT-CDO-ALLDAYEVENT:FALSE
SUMMARY:Great Things Happen Here!
DESCRIPTION:St. Croix Catholic School is offering an Information Session and Tours during the school day on Friday\, November 1\, 2019. Prospective families are invited to an all-school Mass at 9:15 a.m.\, followed by a welcome message by the School's principal\, Sister Maria Ivana\, O.P.  Tours will be offered throughout the day\, 10:30 a.m. until 3:00 p.m.  An additional information session will be offered at 6:30 p.m. in the school's Meeting Room. Pre-registration is not required for the event.  Contact Enrollment Coordinator\, Lauren Junker\, ljunker@stccs.com or 651.439.5581 x322\, for more information
X-ALT-DESC;FMTTYPE=text/html:<span style="font-family:times new roman\,serif"><span style="font-size:11.0pt">St. Croix Catholic School is offering an Information Session and Tours during the school day on Friday\, November 1\, 2019. Prospective families are invited to an all-school Mass at 9:15 a.m.\, followed by a welcome message by the School&rsquo\;s principal\, Sister Maria Ivana\, O.P. &nbsp\;Tours will be offered throughout the day\, 10:30 a.m. until 3:00 p.m.&nbsp\; An additional information session will be offered at 6:30 p.m. in the school&rsquo\;s Meeting Room. Pre-registration is not required for the event.&nbsp\; Contact Enrollment Coordinator\, Lauren Junker\, </span></span><span style="font-family:calibri\,sans-serif"><span style="font-size:10.0pt"><a href="mailto:ljunker@stccs.com"><span style="font-family:times new roman\,serif"><span style="font-size:11.0pt">ljunker@stccs.com</span></span></a></span></span><span style="font-family:times new roman\,serif"><span style="font-size:11.0pt"> or 651.439.5581 x322\, for more information</span></span>
LOCATION:St. Croix Catholic School 621 Third Street South Stillwater\, MN 55082
UID:e.257.29992
SEQUENCE:3
DTSTAMP:20260422T085836Z
URL:https://greaterstillwaterchamber.com/events/details/great-things-happen-here-29992
END:VEVENT

END:VCALENDAR
