BEGIN:VCALENDAR
VERSION:2.0
PRODID:-//ChamberMaster//Event Calendar 2.0//EN
METHOD:PUBLISH
X-PUBLISHED-TTL:P3D
REFRESH-INTERVAL:P3D
CALSCALE:GREGORIAN
BEGIN:VEVENT
DTSTART:20200423T173000Z
DTEND:20200423T180000Z
X-MICROSOFT-CDO-ALLDAYEVENT:FALSE
SUMMARY:Get On Your Feet: Simple Steps to Stay Active at Home
DESCRIPTION:Join Olympian Carrie Tollefson as she shares her tips for keeping energy up and staying fit at home. She will lead an easy\, 20 minute workout for your lunch break and answer your wellness questions and how to get your whole house involved.
X-ALT-DESC;FMTTYPE=text/html:<span style="font-size:18px">Join Olympian Carrie Tollefson as she shares her tips for keeping energy up and staying fit at home. She will&nbsp\;lead&nbsp\;an easy\, 20 minute&nbsp\;workout for your lunch break and answer your wellness&nbsp\;questions and how to get your whole house involved.</span>
LOCATION:Webinar
UID:e.257.30718
SEQUENCE:3
DTSTAMP:20260422T024835Z
URL:https://greaterstillwaterchamber.com/events/details/get-on-your-feet-simple-steps-to-stay-active-at-home-30718
END:VEVENT

END:VCALENDAR
