BEGIN:VCALENDAR
VERSION:2.0
PRODID:-//ChamberMaster//Event Calendar 2.0//EN
METHOD:PUBLISH
X-PUBLISHED-TTL:P3D
REFRESH-INTERVAL:P3D
CALSCALE:GREGORIAN
BEGIN:VEVENT
DTSTART:20240622T170000Z
DTEND:20240901T230000Z
X-MICROSOFT-CDO-ALLDAYEVENT:FALSE
SUMMARY:Gasthaus Biergarten
DESCRIPTION:Gasthaus' Biergarten is open\, free to the public and weather permitting\, every Saturday and Sunday in June\, July\, and August (including September 1st) from noon-6pm. Presented by Hammer-Schlagen \, the world's most famous nail driving game\, Gasthaus' Biergarten is open\, free to the public and weather permitting\, on Saturdays and Sundays from June thru August (including September 1) between noon and 6pm. Come enjoy a few Gasthaus Radlers on our front meadow both before and after eating one of the chef's daily lunch and dinner specials. See https://gasthausbavarianhunter.com/2024-biergarten/ for a schedule of events and other news!
X-ALT-DESC;FMTTYPE=text/html:Gasthaus&rsquo\; Biergarten is open\, free to the public and weather permitting\, every Saturday and Sunday in June\, July\, and August (including September 1st) from noon-6pm. Presented by Hammer-Schlagen&reg\;\, the world&rsquo\;s most famous nail driving game\, Gasthaus&rsquo\; Biergarten is open\, free to the public and weather permitting\, on Saturdays and Sundays from June thru August (including September 1) between noon and 6pm. Come enjoy a few Gasthaus Radlers on our front meadow both before and after eating one of the chef&rsquo\;s daily lunch and dinner specials. See https://gasthausbavarianhunter.com/2024-biergarten/ for a schedule of events and other news!
LOCATION:Gasthaus Bavarian Hunter 8390 Lofton Ave N Stillwater\, MN 55082
UID:e.257.38614
SEQUENCE:3
DTSTAMP:20260421T102010Z
URL:https://greaterstillwaterchamber.com/events/details/gasthaus-biergarten-38614
END:VEVENT

END:VCALENDAR
