BEGIN:VCALENDAR
VERSION:2.0
PRODID:-//ChamberMaster//Event Calendar 2.0//EN
METHOD:PUBLISH
X-PUBLISHED-TTL:P3D
REFRESH-INTERVAL:P3D
CALSCALE:GREGORIAN
BEGIN:VEVENT
DTSTART:20240724T190000Z
DTEND:20240724T210000Z
X-MICROSOFT-CDO-ALLDAYEVENT:FALSE
SUMMARY:Frandsen Frozen Fun Fest
DESCRIPTION:Chill out with Frandsen at our Ice Cream Social!
X-ALT-DESC;FMTTYPE=text/html:Chill out with Frandsen at our Ice Cream Social!
LOCATION:3585 Highway 61\, Vadnais Heights\, MN 55110
UID:e.257.37209
SEQUENCE:3
DTSTAMP:20260422T173102Z
URL:https://greaterstillwaterchamber.com/events/details/frandsen-frozen-fun-fest-37209
END:VEVENT

END:VCALENDAR
