BEGIN:VCALENDAR
VERSION:2.0
PRODID:-//ChamberMaster//Event Calendar 2.0//EN
METHOD:PUBLISH
X-PUBLISHED-TTL:P3D
REFRESH-INTERVAL:P3D
CALSCALE:GREGORIAN
BEGIN:VEVENT
DTSTART:20240608T113000Z
DTEND:20240608T220000Z
X-MICROSOFT-CDO-ALLDAYEVENT:FALSE
SUMMARY:FISH United
DESCRIPTION:United Way of Washington County-East is hosting their 3rd Annual FISH United tournament on June 8th! This one-day fishing tournament on the St. Croix will be the perfect kickoff to summer! Fishing begins at 6:30am and you are free to fish until 2:00pm then join us at Bayport American Legion for dinner\, awards\, and raffle prizes! Don't have a boat\, no problem   NEW this year FISH FROM SHORE. More details can be found on our website at https://www.uwwce.org/fish-united Registration is required for both boating and fish from shore\, kids 12 and under are FREE!
X-ALT-DESC;FMTTYPE=text/html:United Way of Washington County-East is hosting their 3rd Annual FISH United tournament on June 8th! This one-day fishing tournament on the St. Croix will be the perfect kickoff to summer! Fishing begins at 6:30am and you are free to fish until 2:00pm then join us at Bayport American Legion for dinner\, awards\, and raffle prizes! Don&#39\;t have a boat\, no problem &ndash\; NEW this year FISH FROM SHORE. More details can be found on our website at https://www.uwwce.org/fish-united Registration is required for both boating and fish from shore\, kids 12 and under are FREE!
LOCATION:Fishing - Bayport Launch onto St. Croix Fish from Shore - Lakeside Park Dinner & Awards - Bayport American Legion
UID:e.257.37220
SEQUENCE:3
DTSTAMP:20260422T161046Z
URL:https://greaterstillwaterchamber.com/events/details/fish-united-06-08-2024-37220
END:VEVENT

END:VCALENDAR
