BEGIN:VCALENDAR
VERSION:2.0
PRODID:-//ChamberMaster//Event Calendar 2.0//EN
METHOD:PUBLISH
X-PUBLISHED-TTL:P3D
REFRESH-INTERVAL:P3D
CALSCALE:GREGORIAN
BEGIN:VEVENT
DTSTART:20250531T113000Z
DTEND:20250531T220000Z
X-MICROSOFT-CDO-ALLDAYEVENT:FALSE
SUMMARY:FISH United
DESCRIPTION:It's time again! FISH UNITED Presented by Reflections happening May 31st! We invite you to join us for our 4th annual one day fishing tournament on the St. Croix River. The day starts bright and early at 6:30am on the river and then food & awards will begin at 3:00pm at the Bayport American Legion. Prizes awarded to the top 5 anglers\, along with raffle prizes\, silent auction items\, Big Fish Pot\, and so much more! Don't miss out!\n\n \n\nThis is a perfect kick off to summer! Kids 12 and under FREE - what a perfect way to create some memories that will last a lifetime.\n\n \n\nAs a reminder one angler per boat MUST attend the Rules & Regulations meeting being held Friday\, May 30th started at 6:30pm at the Bayport Legion. For a full list of Tournament Rules click HERE. \n\n \n\nYour FISH United Director is Kelly Stenerson\, if you have further questions please contact her at - kelly.stenerson@uwwce.org. \n\n \n\nBut don't wait! Registration is NOW OPEN! Sign up today - https://onecau.se/_8p2qv1
X-ALT-DESC;FMTTYPE=text/html:<span style="color:#333333"><span style="font-family:arial\,sans-serif"><span style="font-size:10pt">It&#39\;s time again!&nbsp\;</span></span></span><span style="color:#333333"><span style="font-family:inherit\,serif"><span style="font-size:10pt">FISH UNITED Presented by&nbsp\;<a href="https://www.reflections-mn.com/" target="_blank" title="https://www.reflections-mn.com/">Reflections</a>&nbsp\;happening May 31st! We invite you to join us for our 4th annual one day fishing tournament on the St. Croix River.</span></span></span><span style="color:#333333"><span style="font-family:arial\,sans-serif"><span style="font-size:10pt">&nbsp\;The day starts bright and early at 6:30am on the river and then food &amp\; awards will begin at 3:00pm at the Bayport American Legion. Prizes awarded to the top 5 anglers\, along with raffle prizes\, silent auction items\, Big Fish Pot\, and so much more! Don&#39\;t miss out!</span></span></span><br />\n&nbsp\;<br />\n<span style="color:#333333"><span style="font-family:arial\,sans-serif"><span style="font-size:10pt">This is a perfect kick off to summer!&nbsp\;</span></span></span><span style="color:#333333"><span style="font-family:inherit\,serif"><span style="font-size:10pt">Kids 12 and under FREE</span></span></span><span style="color:#333333"><span style="font-family:arial\,sans-serif"><span style="font-size:10pt">&nbsp\;- what a perfect&nbsp\;way to create some memories that will last a lifetime.</span></span></span><br />\n&nbsp\;<br />\n<span style="color:#333333"><span style="font-family:arial\,sans-serif"><span style="font-size:10pt">As a reminder&nbsp\;</span></span></span><span style="color:#333333"><span style="font-family:inherit\,serif"><span style="font-size:10pt">one angler per boat MUST</span></span></span><span style="color:#333333"><span style="font-family:arial\,sans-serif"><span style="font-size:10pt">&nbsp\;attend the Rules &amp\; Regulations meeting being held Friday\, May 30th started at 6:30pm at the Bayport Legion. For a full list of Tournament Rules&nbsp\;<a href="https://www.uwwce.org/sites/uwwce/files/2025-02/2025%20FISH%20United%20Rules.pdf" target="_blank" title="https://www.uwwce.org/sites/uwwce/files/2025-02/2025%20FISH%20United%20Rules.pdf">click HERE</a>.&nbsp\;</span></span></span><br />\n&nbsp\;<br />\n<span style="color:#333333"><span style="font-family:arial\,sans-serif"><span style="font-size:10pt">Your FISH United Director is Kelly Stenerson\, if you have further questions please contact her at - kelly.stenerson@uwwce.org.&nbsp\;</span></span></span><br />\n&nbsp\;<br />\n<span style="color:#333333"><span style="font-family:arial\,sans-serif"><span style="font-size:10pt">But don&#39\;t wait! Registration is NOW OPEN! Sign up today -&nbsp\;<a href="https://onecau.se/_8p2qv1" target="_blank" title="https://onecau.se/_8p2qv1">https://onecau.se/_8p2qv1</a></span></span></span>
LOCATION:Fishing on the St. Croix River - Bayport Launch | 53 4th Ave N\, Bayport\, MN 550033 Food & Awards - Bayport American Legion | 263 3rd St N\, Bayport\, MN 55003
UID:e.257.43244
SEQUENCE:3
DTSTAMP:20260422T103042Z
URL:https://greaterstillwaterchamber.com/events/details/fish-united-05-31-2025-43244
END:VEVENT

END:VCALENDAR
