BEGIN:VCALENDAR
VERSION:2.0
PRODID:-//ChamberMaster//Event Calendar 2.0//EN
METHOD:PUBLISH
X-PUBLISHED-TTL:P3D
REFRESH-INTERVAL:P3D
CALSCALE:GREGORIAN
BEGIN:VEVENT
DTSTART:20240705T010000Z
DTEND:20240705T041500Z
X-MICROSOFT-CDO-ALLDAYEVENT:FALSE
SUMMARY:Fireworks Dinner Cruise to Stillwater Fireworks July 4
DESCRIPTION:4th of July Dinner Cruise to Stillwater\n\nJuly 4th\, 2024\n\n\n\nEnjoy a spectacular fireworks display while on the St. Croix! A unique viewing experience. \n\n\n\nDinner Buffet Menu Chicken and Ribs along with Vegetable\, Potatoes\, Salad and Dessert\n\nBar is available on board for cocktails and beverages
X-ALT-DESC;FMTTYPE=text/html:<div style="text-align:center">\n<div style="text-align:center"><span style="font-size:16px"><strong><span style="font-family:arial">4th of July Dinner Cruise to Stillwater<br />\nJuly 4th\, 2024</span></strong></span></div>\n\n<div><br />\n<span style="font-family:arial"><span style="font-size:14px">Enjoy a spectacular fireworks display while on the St. Croix! A unique viewing experience.&nbsp\;<br />\n<br />\nDinner Buffet Menu Chicken and Ribs along with Vegetable\, Potatoes\, Salad and Dessert</span></span>\n\n<p><span style="font-family:arial\,sans-serif\; font-size:10pt">Bar is available on board for cocktails and beverages</span></p>\n</div>\n</div>\n
LOCATION:Boarding is in Hudson\, Wisconsin 98 Walnut Street Hudson\, WI. 54016
UID:e.257.27079
SEQUENCE:3
DTSTAMP:20260422T173702Z
URL:https://greaterstillwaterchamber.com/events/details/fireworks-dinner-cruise-07-04-2018-27079
END:VEVENT

END:VCALENDAR
