BEGIN:VCALENDAR
VERSION:2.0
PRODID:-//ChamberMaster//Event Calendar 2.0//EN
METHOD:PUBLISH
X-PUBLISHED-TTL:P3D
REFRESH-INTERVAL:P3D
CALSCALE:GREGORIAN
BEGIN:VEVENT
DTSTART:20240120T160000Z
DTEND:20240120T173000Z
X-MICROSOFT-CDO-ALLDAYEVENT:FALSE
SUMMARY:Find Your Word
DESCRIPTION:Enhance your motivation for a successful 2024. \n\nFind your "word" for the year. \n\nKatie will lead you in a deep dive of how to choose your word\,\n\nand a meaningful \n\npiece will be created to help your \n\nword guide you all year long.
X-ALT-DESC;FMTTYPE=text/html:<p style="text-align:center"><span style="font-size:14px">Enhance your motivation for a successful 2024.&nbsp\;</span></p>\n\n<div style="text-align:center"><strong>Find your&nbsp\;&ldquo\;word&rdquo\;&nbsp\;for&nbsp\;the&nbsp\;year.&nbsp\;</strong></div>\n\n<div style="text-align:center">Katie&nbsp\;will&nbsp\;lead&nbsp\;you&nbsp\;in&nbsp\;a&nbsp\;deep&nbsp\;dive&nbsp\;of&nbsp\;how&nbsp\;to&nbsp\;choose&nbsp\;your&nbsp\;word\,</div>\n\n<div style="text-align:center">and&nbsp\;a meaningful&nbsp\;</div>\n\n<div style="text-align:center">piece&nbsp\;will&nbsp\;be&nbsp\;created&nbsp\;to&nbsp\;help&nbsp\;your&nbsp\;</div>\n\n<div style="text-align:center">word&nbsp\;guide&nbsp\;you&nbsp\;all&nbsp\;year&nbsp\;long.</div>\n
LOCATION:Stronger Wellness and Nutrition 5805A Neal Ave N Stillwater\, MN. 55082 (by Kowalski's Market and Mainstream Boutique)
UID:e.257.37114
SEQUENCE:3
DTSTAMP:20260422T020342Z
URL:https://greaterstillwaterchamber.com/events/details/find-your-word-37114
END:VEVENT

END:VCALENDAR
