BEGIN:VCALENDAR
VERSION:2.0
PRODID:-//ChamberMaster//Event Calendar 2.0//EN
METHOD:PUBLISH
X-PUBLISHED-TTL:P3D
REFRESH-INTERVAL:P3D
CALSCALE:GREGORIAN
BEGIN:VEVENT
DTSTART:20250615T180000Z
DTEND:20250615T210000Z
X-MICROSOFT-CDO-ALLDAYEVENT:FALSE
SUMMARY:Father's Day Tour + Taste Experience!
DESCRIPTION:Father's Day Tour + Taste Experience! \nJoin us for a 1 hour tour and tasting experience\, that includes some extra attention for dad! Wine & Chocolate\, Wine & Cigars\, a special bonus pour! Marco V cigars available for purchase. \n\n\n\nLinger longer with a seated reservation\, or just a glass or bottle to enjoy! Cigar lounge on site for dad's special day\, and live music for the win!
X-ALT-DESC;FMTTYPE=text/html:<h2 style="font-style:italic">Father&#39\;s Day Tour + Taste Experience!&nbsp\;</h2>\nJoin us for a 1 hour tour and tasting experience\, that includes some extra attention for dad! Wine &amp\; Chocolate\, Wine &amp\; Cigars\, a special bonus pour! Marco V cigars available for purchase.&nbsp\;<br />\n<br />\nLinger longer with a seated reservation\, or just a glass or bottle to enjoy! Cigar lounge on site for dad&#39\;s special day\, and live music for the win!&nbsp\;
LOCATION:7 Vines Vineyard 101 Hwy 96 East Dellwood MN 55110
UID:e.257.43444
SEQUENCE:3
DTSTAMP:20260422T060719Z
URL:https://greaterstillwaterchamber.com/events/details/father-s-day-tour-taste-experience-43444
END:VEVENT

END:VCALENDAR
