BEGIN:VCALENDAR
VERSION:2.0
PRODID:-//ChamberMaster//Event Calendar 2.0//EN
METHOD:PUBLISH
X-PUBLISHED-TTL:P3D
REFRESH-INTERVAL:P3D
CALSCALE:GREGORIAN
BEGIN:VEVENT
DTSTART;VALUE=DATE:20250609
DTEND;VALUE=DATE:20250610
TRANSP:TRANSPARENT
X-MICROSOFT-CDO-ALLDAYEVENT:TRUE
SUMMARY:Father's Day Special Offer
DESCRIPTION:"Dad Works Hard... Let Us Do the Cleaning!"\n\nSqueaky Services helps you celebrate him the way he deserves\n\n\n	Father's Day Special Promotion\n	General cleaning for up to 4 hours   now only $249 (was $279)\n	Includes 50% off another service (Carpet Cleaning\, Power Washing\, or Painting)\n	Extra cleaning for home office or study included!\n	Valid throughout June\n	Book today and surprise Dad with a spotless home!
X-ALT-DESC;FMTTYPE=text/html:<p><strong>&ldquo\;Dad Works Hard... Let Us Do the Cleaning!&rdquo\;</strong><br />\nSqueaky Services helps you celebrate him the way he deserves</p>\n\n<ul>\n	<li><strong>Father&rsquo\;s Day Special Promotion</strong></li>\n	<li>General cleaning for up to 4 hours &ndash\; now only&nbsp\;<strong>$249</strong>&nbsp\;(was $279)</li>\n	<li>Includes&nbsp\;<strong>50% off</strong>&nbsp\;another service (Carpet Cleaning\, Power Washing\, or Painting)</li>\n	<li>Extra cleaning for&nbsp\;<strong>home office or study included!</strong></li>\n	<li><strong>Valid throughout June</strong></li>\n	<li>Book today and surprise Dad with a spotless home!</li>\n</ul>\n
LOCATION:
UID:e.257.43423
SEQUENCE:3
DTSTAMP:20260422T061010Z
URL:https://greaterstillwaterchamber.com/events/details/father-s-day-special-offer-06-09-2025-43423
END:VEVENT

END:VCALENDAR
