BEGIN:VCALENDAR
VERSION:2.0
PRODID:-//ChamberMaster//Event Calendar 2.0//EN
METHOD:PUBLISH
X-PUBLISHED-TTL:P3D
REFRESH-INTERVAL:P3D
CALSCALE:GREGORIAN
BEGIN:VEVENT
DTSTART:20240616T150000Z
DTEND:20240616T170000Z
X-MICROSOFT-CDO-ALLDAYEVENT:FALSE
SUMMARY:Father's Day Brunch Cruise - St. Croix River Cruises
DESCRIPTION:Fathers Day Brunch Cruise\n\n \n\nTreat Dad & the family to Celebrate Dad on the St. Croix River\n\nA relaxing and fun memory.\n\n \n\nSunday\, June 16\, 2024\n\nCruise: 10am-12pm \n\n \n\nTickets: https://stcroixrivercruises.com/ or 651-436-8883 for Reservations
X-ALT-DESC;FMTTYPE=text/html:<strong><span style="color:rgb(132\, 60\, 12)"><span style="font-size:16pt">Fathers Day Brunch Cruise</span></span></strong><br />\n&nbsp\;<br />\n<strong><span style="color:rgb(31\, 78\, 121)"><span style="font-size:14pt">Treat Dad &amp\; the family to Celebrate Dad on the St. Croix River</span></span></strong><br />\n<strong><span style="color:rgb(31\, 78\, 121)"><span style="font-size:14pt">A relaxing and fun memory.</span></span></strong><br />\n&nbsp\;<br />\n<strong><span style="color:rgb(31\, 78\, 121)"><span style="font-size:14pt">Sunday\, June 16\, 2024</span></span></strong><br />\n<strong><span style="color:rgb(31\, 78\, 121)"><span style="font-size:14pt">Cruise: 10am-12pm&nbsp\;</span></span></strong><br />\n&nbsp\;<br />\n<strong><span style="font-family:arial\,sans-serif">Tickets:&nbsp\;</span><a href="https://stcroixrivercruises.com/">https://stcroixrivercruises.com/</a>&nbsp\;or 651-436-8883 for Reservations</strong><br />\n&nbsp\;<br />\n<br />\n&nbsp\;<br />\n&nbsp\;<br />\n&nbsp\;
LOCATION:98 Walnut Street Hudson\, WI 54016
UID:e.257.31407
SEQUENCE:3
DTSTAMP:20260422T162324Z
URL:https://greaterstillwaterchamber.com/events/details/father-s-day-brunch-cruise-st-croix-river-cruises-31407
END:VEVENT

END:VCALENDAR
