BEGIN:VCALENDAR
VERSION:2.0
PRODID:-//ChamberMaster//Event Calendar 2.0//EN
METHOD:PUBLISH
X-PUBLISHED-TTL:P3D
REFRESH-INTERVAL:P3D
CALSCALE:GREGORIAN
BEGIN:VEVENT
DTSTART:20250621T160000Z
DTEND:20250621T200000Z
X-MICROSOFT-CDO-ALLDAYEVENT:FALSE
SUMMARY:Farm Day Growers & Makers Market
DESCRIPTION:Join us for the all-new Growers & Makers Market at Lift Bridge! \n\nWe've partnered with @sustainablefarmingmn to bring local goods and good vibes to your summer Saturdays!\n\n\n\nEvery 3rd Saturday | June September\n\n11AM 3PM | Rain or Shine\n\nLocal produce\n\nMeats\, cheeses & pickled treats\n\nSmall-batch sauces & seasonings\n\nHandmade art\, crafts & more!\n\nFeatured Beer: Farm Day Golden Ale\n\n$1 per pint\, $0.50 per can\, and $2 per crowler goes to support @sustainablefarmingmn\n\nFood Trucks:\n\n  6/21   Roxy's Waffles\n\n  7/19   The Rusty Kettle\n\n  8/16   Smug Pug\n\n  9/20   JR Food Craft\n\nSupport local. Sip local. See you there!
X-ALT-DESC;FMTTYPE=text/html:<p><strong>Join us for the all-new Growers &amp\; Makers Market at Lift Bridge!</strong>&nbsp\;<br />\nWe&rsquo\;ve partnered with @sustainablefarmingmn to bring local goods and good vibes to your summer Saturdays!<br />\n<br />\n<strong>Every 3rd Saturday | June&ndash\;September</strong><br />\n11AM&ndash\;3PM | Rain or Shine</p>\n\n<p>Local produce<br />\nMeats\, cheeses &amp\; pickled treats<br />\nSmall-batch sauces &amp\; seasonings<br />\nHandmade art\, crafts &amp\; more!</p>\n\n<p><strong>Featured Beer: Farm Day Golden Ale</strong><br />\n$1 per pint\, $0.50 per can\, and $2 per crowler goes to support @sustainablefarmingmn</p>\n\n<p><strong>Food Trucks:</strong><br />\n&bull\; 6/21 &ndash\; Roxy&rsquo\;s Waffles<br />\n&bull\; 7/19 &ndash\; The Rusty Kettle<br />\n&bull\; 8/16 &ndash\; Smug Pug<br />\n&bull\; 9/20 &ndash\; JR Food Craft</p>\n\n<p>Support local. Sip local. See you there!&nbsp\;</p>\n\n<p>&nbsp\;</p>\n
LOCATION:Lift Bridge Brewing Stillwater\, 1900 Tower Dr W\, Stillwater\, MN 55082\, USA
UID:e.257.43453
SEQUENCE:3
DTSTAMP:20260422T061006Z
URL:https://greaterstillwaterchamber.com/events/details/farm-day-growers-makers-market-43453
END:VEVENT

END:VCALENDAR
