BEGIN:VCALENDAR
VERSION:2.0
PRODID:-//ChamberMaster//Event Calendar 2.0//EN
METHOD:PUBLISH
X-PUBLISHED-TTL:P3D
REFRESH-INTERVAL:P3D
CALSCALE:GREGORIAN
BEGIN:VEVENT
DTSTART:20250902T210000Z
DTEND:20250903T010000Z
X-MICROSOFT-CDO-ALLDAYEVENT:FALSE
SUMMARY:FamilyMeans Townie Tuesday
DESCRIPTION:Grab a pint and support families in the St. Croix Valley! Join us on Tuesday\, Sept 2 for TOWNIE TUESDAY at Lift Bridge Brewery. $1 of every Lift Bridge pint (including rootbeer) supports FamilyMeans programming. All donations will be matched dollar to dollar by Andersen Windows & Doors! Fun for all ages! There will be yard games\, raffle prizes\, and great company. We will be giving away FREE raffle tickets to anyone who signs up for our agency newsletter OR likes our social media at the event! Trust me\, you're going to want to win these prizes! The Smug Pug Food Truck will be there serving up delicious meals for all to enjoy. We hope to see you there!
X-ALT-DESC;FMTTYPE=text/html:Grab a pint and support families in the St. Croix Valley! Join us on Tuesday\, Sept 2 for TOWNIE TUESDAY at Lift Bridge Brewery. $1 of every Lift Bridge pint (including rootbeer) supports FamilyMeans programming. All donations will be matched dollar to dollar by Andersen Windows &amp\; Doors! Fun for all ages! There will be yard games\, raffle prizes\, and great company. We will be giving away FREE raffle tickets to anyone who signs up for our agency newsletter OR likes our social media at the event! Trust me\, you&#39\;re going to want to win these prizes! The Smug Pug Food Truck will be there serving up delicious meals for all to enjoy. We hope to see you there!
LOCATION:Lift Bridge Brewery 1900 Tower Drive Stillwater\, MN
UID:e.257.43900
SEQUENCE:3
DTSTAMP:20260422T010258Z
URL:https://greaterstillwaterchamber.com/events/details/familymeans-townie-tuesday-43900
END:VEVENT

END:VCALENDAR
