BEGIN:VCALENDAR
VERSION:2.0
PRODID:-//ChamberMaster//Event Calendar 2.0//EN
METHOD:PUBLISH
X-PUBLISHED-TTL:P3D
REFRESH-INTERVAL:P3D
CALSCALE:GREGORIAN
BEGIN:VEVENT
DTSTART:20250910T230000Z
DTEND:20250911T020000Z
X-MICROSOFT-CDO-ALLDAYEVENT:FALSE
SUMMARY:Fall Wine Dinner - Stag's Leap Winery
DESCRIPTION:Join us for an unforgettable evening with Stags Leap Winery\, one of Napa Valley's most celebrated producers. This special night will feature a multi-course dinner\, thoughtfully curated and paired with selections from their acclaimed portfolio of wines.\n\n \n\nWednesday\, September 10\, 2025\n\n6:00 PM\n\nLake Elmo Inn Event Center\n\n3712 Layton Ave N\, Lake Elmo\, MN 55042\n\n$135/per person\, tax & gratuity included\n\n \n\nTickets are limited and sell quickly. \n\nPlease call the restaurant to reserve your spot @ 651-777-8495
X-ALT-DESC;FMTTYPE=text/html:<p style="text-align:center"><span style="font-family:merriweather sans\,helvetica neue\,helvetica\,arial\,sans-serif">Join us for an unforgettable evening with&nbsp\;</span><strong><span style="font-family:merriweather sans\,helvetica neue\,helvetica\,arial\,sans-serif">Stags Leap Winery</span></strong><span style="font-family:merriweather sans\,helvetica neue\,helvetica\,arial\,sans-serif">\, one of Napa Valley&rsquo\;s most celebrated producers. This special night will feature a&nbsp\;</span><strong><span style="font-family:merriweather sans\,helvetica neue\,helvetica\,arial\,sans-serif">multi-course dinner\, thoughtfully curated and paired with selections from their acclaimed portfolio of wines</span></strong><span style="font-family:merriweather sans\,helvetica neue\,helvetica\,arial\,sans-serif">.</span></p>\n\n<p style="text-align:center">&nbsp\;</p>\n\n<p style="text-align: center\;">Wednesday\, September 10\, 2025<br />\n6:00 PM</p>\n\n<p style="text-align: center\;">Lake Elmo Inn Event Center<br />\n3712 Layton Ave N\, Lake Elmo\, MN 55042<br />\n$135/per person\, tax &amp\; gratuity included</p>\n\n<p>&nbsp\;</p>\n\n<p style="text-align:center"><span style="font-family:merriweather sans\,helvetica neue\,helvetica\,arial\,sans-serif">Tickets are limited and sell quickly.&nbsp\;</span></p>\n\n<p style="text-align:center"><span style="font-family:merriweather sans\,helvetica neue\,helvetica\,arial\,sans-serif">Please call the restaurant to reserve your spot @ 651-777-8495</span></p>\n
LOCATION:Lake Elmo Inn Event Center - 3712 Layton Ave N\, Lake Elmo\, MN 55042
UID:e.257.46349
SEQUENCE:3
DTSTAMP:20260422T010047Z
URL:https://greaterstillwaterchamber.com/events/details/fall-wine-dinner-stag-s-leap-winery-46349
END:VEVENT

END:VCALENDAR
