BEGIN:VCALENDAR
VERSION:2.0
PRODID:-//ChamberMaster//Event Calendar 2.0//EN
METHOD:PUBLISH
X-PUBLISHED-TTL:P3D
REFRESH-INTERVAL:P3D
CALSCALE:GREGORIAN
BEGIN:VEVENT
DTSTART:20231008T203000Z
DTEND:20231008T223000Z
X-MICROSOFT-CDO-ALLDAYEVENT:FALSE
SUMMARY:Fall Colors Cruises: Sunday Afternoon
DESCRIPTION:Fall Colors Cruises\n\nSundays: September and October\n\nHudson\, WI \n\n\n\nTake in all the fall colors while having lunch on the St. Croix River. Enjoy a great time with friends or family. \n\nPre-order of food is available. \n\n\n\n*Cash bar available on board.\n\nWe DO NOT accept credit cards or checks on the boat.
X-ALT-DESC;FMTTYPE=text/html:<div style="text-align:center">Fall Colors Cruises<br />\nSundays: September and October<br />\nHudson\, WI&nbsp\;</div>\n\n<div><br />\nTake in all the fall colors while having lunch on the St. Croix River. Enjoy a great time with friends or family.&nbsp\;<br />\nPre-order of food is available.&nbsp\;<br />\n<br />\n*Cash bar available on board.<br />\nWe DO NOT accept credit cards or checks on the boat.&nbsp\;<br />\n&nbsp\;</div>\n
LOCATION:Boards at 98 Walnut Street Hudson\, WI. 54016
UID:e.257.36351
SEQUENCE:3
DTSTAMP:20260423T041408Z
URL:https://greaterstillwaterchamber.com/events/details/fall-colors-cruises-sunday-afternoon-10-08-2023-36351
END:VEVENT

END:VCALENDAR
