BEGIN:VCALENDAR
VERSION:2.0
PRODID:-//ChamberMaster//Event Calendar 2.0//EN
METHOD:PUBLISH
X-PUBLISHED-TTL:P3D
REFRESH-INTERVAL:P3D
CALSCALE:GREGORIAN
BEGIN:VEVENT
DTSTART:20190929T201500Z
DTEND:20190929T221500Z
X-MICROSOFT-CDO-ALLDAYEVENT:FALSE
SUMMARY:Fall Colors Cruises: Sunday Afternoon
DESCRIPTION:Fall Colors Cruises\n\nSundays: September and October\n\nHudson\, WI \n\n\n\nTake in all the fall colors while having lunch on the St. Croix\n\nConssion food for sale on board. - Cash basis\n\n\n\n*Cash bar available on board.\n\nWe DO NOT accept credit cards or checks on the boat. \n\n\n\nNOTE: Not to be mistaken with our Fall Colors Cruise on [select] Saturdays\, which board at 11:30am.
X-ALT-DESC;FMTTYPE=text/html:<div style="text-align:center">Fall Colors Cruises<br />\nSundays: September and October<br />\nHudson\, WI&nbsp\;</div>\n\n<div><br />\nTake in all the fall colors while having lunch on the St. Croix<br />\nConssion food for sale on board. - Cash basis<br />\n<br />\n*Cash bar available on board.<br />\nWe DO NOT accept credit cards or checks on the boat.&nbsp\;<br />\n<br />\nNOTE: Not to be mistaken with our Fall Colors Cruise on [select] Saturdays\, which board at 11:30am.</div>\n
LOCATION:Boarding 98 Walnut Street Hudson\, WI. 54016 The actual boat used for your cruise will be determined by St. Croix River Cruises and is subject to change without notice.
UID:e.257.29771
SEQUENCE:3
DTSTAMP:20260423T235929Z
URL:https://greaterstillwaterchamber.com/events/details/fall-colors-cruises-sunday-afternoon-09-29-2019-29771
END:VEVENT

END:VCALENDAR
