BEGIN:VCALENDAR
VERSION:2.0
PRODID:-//ChamberMaster//Event Calendar 2.0//EN
METHOD:PUBLISH
X-PUBLISHED-TTL:P3D
REFRESH-INTERVAL:P3D
CALSCALE:GREGORIAN
BEGIN:VEVENT
DTSTART:20250921T141500Z
DTEND:20250921T153000Z
X-MICROSOFT-CDO-ALLDAYEVENT:FALSE
SUMMARY:Fall Bible Study Kickoff
DESCRIPTION:Sunday JAM is back starting September 21!\n\n\n\nKids ages 3 8th grade will learn Bible stories\, sing\, and grow in faith together each week. Pre-register now at www.salemlutheran.org/SundayJam\n\n\n\n \n\n\n\nAt the same time\, teens and adults are invited to a six-part Bible study inspired by Pastor David Rosenau's keynote at the WELS National Conference on Lutheran Leadership. Discover why every soul is a treasure to God and how we can witness one by one.\n\n\n\n \n\n\n\nFaith and growth for the whole family join us this fall at Salem.
X-ALT-DESC;FMTTYPE=text/html:<div>\n<div><span style="font-family:inherit">Sunday JAM is back starting September 21!</span></div>\n</div>\n\n<div>\n<div><span style="font-family:inherit">Kids ages 3&ndash\;8th grade will learn Bible stories\, sing\, and grow in faith together each week. Pre-register now at www.salemlutheran.org/SundayJam</span></div>\n</div>\n\n<div>\n<div>&nbsp\;</div>\n</div>\n\n<div>\n<div><span style="font-family:inherit">At the same time\, teens and adults are invited to a six-part Bible study inspired by Pastor David Rosenau&rsquo\;s keynote at the WELS National Conference on Lutheran Leadership. Discover why every soul is a treasure to God and how we can witness one by one.</span></div>\n</div>\n\n<div>\n<div>&nbsp\;</div>\n</div>\n\n<div>\n<div><span style="font-family:inherit">Faith and growth for the whole family&mdash\;join us this fall at Salem.</span></div>\n</div>\n
LOCATION:14940 62nd St N Stillwater\, MN
UID:e.257.46376
SEQUENCE:3
DTSTAMP:20260422T005948Z
URL:https://greaterstillwaterchamber.com/events/details/fall-bible-study-kickoff-46376
END:VEVENT

END:VCALENDAR
