BEGIN:VCALENDAR
VERSION:2.0
PRODID:-//ChamberMaster//Event Calendar 2.0//EN
METHOD:PUBLISH
X-PUBLISHED-TTL:P3D
REFRESH-INTERVAL:P3D
CALSCALE:GREGORIAN
BEGIN:VEVENT
DTSTART:20191214T173000Z
DTEND:20191214T193000Z
X-MICROSOFT-CDO-ALLDAYEVENT:FALSE
SUMMARY:Elks Childrens' Holiday Party & Lunch with Santa\, at K. C. Hall Stillwater
DESCRIPTION:Stillwater Elks 2019 Children's Holiday Party and lunch with Santa.  11:30am-1:30pm\n\nActivities include\, face painting\, balloon art\, photo booth\, visit with Santa and Mrs. Claus\, lunch\, ornament activity and give bag for children. Free of charge.  \n\nNEW LOCATION THIS YEAR:  Stillwater K.C. Hall\, 1910 S. Greeley Street.  \n\nPlease bring a non-perishable food item for local food shelf.
X-ALT-DESC;FMTTYPE=text/html:<p><span style="font-family:tahoma"><span style="font-size:14px">Stillwater Elks 2019 Children&#39\;s Holiday Party and lunch with Santa.&nbsp\; 11:30am-1:30pm<br />\nActivities include\, face painting\, balloon art\, photo booth\, visit with Santa and Mrs. Claus\, lunch\, ornament activity and give bag for children. Free of charge. &nbsp\;<br />\nNEW LOCATION THIS YEAR:&nbsp\; Stillwater K.C. Hall\, 1910 S. Greeley Street. &nbsp\;<br />\nPlease bring a non-perishable food item for local food shelf. &nbsp\;</span></span></p>\n
LOCATION:Stillwater K. C. Hall\, 1910 S. Greeley Street\, Stillwater
UID:e.257.30058
SEQUENCE:3
DTSTAMP:20260422T061211Z
URL:https://greaterstillwaterchamber.com/events/details/elks-childrens-holiday-party-lunch-with-santa-at-k-c-hall-stillwater-30058
END:VEVENT

END:VCALENDAR
