BEGIN:VCALENDAR
VERSION:2.0
PRODID:-//ChamberMaster//Event Calendar 2.0//EN
METHOD:PUBLISH
X-PUBLISHED-TTL:P3D
REFRESH-INTERVAL:P3D
CALSCALE:GREGORIAN
BEGIN:VEVENT
DTSTART:20240331T140000Z
DTEND:20240331T220000Z
X-MICROSOFT-CDO-ALLDAYEVENT:FALSE
SUMMARY:Easter Sunday Brunch\, Lunch\, Dinner- The Afton House Inn
DESCRIPTION:Easter Brunch Buffet\n\nAssorted Domestic Cheese and Crackers Charcuterie Assortment with Marinated Olives GF Assorted Fresh Fruits and Berries GF Fresh Vegetable Crudit  with Ranch GF Smoked Salmon GF Deviled Eggs with Paprika GF\n\nAfton House Inn Caesar Salad with Parmesan Croutons GF Italian Pasta Salad Cage Free Scrambled Eggs GF Eggs Strade with Sausage French Toast Bake with Maple Syrup Smoked Kielbasa and Sausage Links GF Fresh Green Beans & Carrots GF Cheesy Hash Brown Potatoes GF Roast Beef Marsala GF Champagne Chicken GF Honey Glazed Ham GF Baked Salmon GF Mostaccoli Pasta\n\nDinner Rolls & Butter Assorted Pastries and Desserts
X-ALT-DESC;FMTTYPE=text/html:<p style="text-align:center"><strong>Easter Brunch Buffet</strong></p>\n\n<p style="text-align:center"><strong>Assorted Domestic Cheese and Crackers&nbsp\;</strong><strong>Charcuterie Assortment with Marinated Olives GF&nbsp\;</strong><strong>Assorted Fresh Fruits and Berries GF&nbsp\;</strong><strong>Fresh Vegetable Crudit&eacute\; with Ranch GF&nbsp\;</strong><strong>Smoked Salmon GF&nbsp\;</strong><strong>Deviled Eggs with Paprika GF</strong></p>\n\n<p style="text-align:center"><strong>Afton House Inn Caesar Salad with Parmesan Croutons GF</strong>&nbsp\;<strong>Italian Pasta Salad&nbsp\;</strong><strong>Cage Free Scrambled Eggs GF Eggs Strade with Sausage&nbsp\;</strong><strong>French Toast Bake with Maple Syrup&nbsp\;</strong><strong>Smoked Kielbasa and Sausage Links GF&nbsp\;</strong><strong>Fresh Green Beans &amp\; Carrots GF Cheesy Hash Brown Potatoes GF&nbsp\;</strong><strong>Roast Beef Marsala GF&nbsp\;</strong><strong>Champagne Chicken GF&nbsp\;</strong><strong>Honey Glazed Ham GF&nbsp\;</strong><strong>Baked Salmon GF&nbsp\;</strong><strong>Mostaccoli Pasta</strong></p>\n\n<p style="text-align:center"><strong>Dinner Rolls &amp\; Butter&nbsp\;</strong><strong>Assorted Pastries and Desserts</strong></p>\n
LOCATION:3291 St. Croix Trail S. Afton\, MN 55001
UID:e.257.37099
SEQUENCE:3
DTSTAMP:20260422T202055Z
URL:https://greaterstillwaterchamber.com/events/details/easter-sunday-brunch-lunch-dinner-the-afton-house-inn-37099
END:VEVENT

END:VCALENDAR
