BEGIN:VCALENDAR
VERSION:2.0
PRODID:-//ChamberMaster//Event Calendar 2.0//EN
METHOD:PUBLISH
X-PUBLISHED-TTL:P3D
REFRESH-INTERVAL:P3D
CALSCALE:GREGORIAN
BEGIN:VEVENT
DTSTART:20231010T150000Z
DTEND:20231010T190000Z
X-MICROSOFT-CDO-ALLDAYEVENT:FALSE
SUMMARY:Dunrovin Retreat Center Open House
DESCRIPTION:Dunrovin Retreat Center will host an Open House for the public on Tuesday\, October 10th from 10 AM to 2 PM. All are welcome. Come and enjoy tastings of our scrumptious home-cooked meals\, tours of our woodland riverfront property\, and autumn walks on our trails. Located on the Saint Croix River banks\, Dunrovin is 30 miles from the St. Paul/Minneapolis center. Nonprofits\, community organizations\, schools\, places of worship\, and business seeking overnight accommodations\, meal services\, and/or meetings spaces can discover the exceptional hospitality we have to offer. Individuals can tour our cozy cabins and plan their next future getaway. CITY CLOSE AND COUNTRY QUIET   Dunrovin: you belong here.
X-ALT-DESC;FMTTYPE=text/html:Dunrovin Retreat Center will host an Open House for the public on Tuesday\, October 10th from 10 AM to 2 PM. All are welcome. Come and enjoy tastings of our scrumptious home-cooked meals\, tours of our woodland riverfront property\, and autumn walks on our trails. Located on the Saint Croix River banks\, Dunrovin is 30 miles from the St. Paul/Minneapolis center. Nonprofits\, community organizations\, schools\, places of worship\, and business seeking overnight accommodations\, meal services\, and/or meetings spaces can discover the exceptional hospitality we have to offer. Individuals can tour our cozy cabins and plan their next future getaway. CITY CLOSE AND COUNTRY QUIET &ndash\; Dunrovin: you belong here.
LOCATION:15525 St. Croix Trail N. Marine on St. Croix
UID:e.257.36566
SEQUENCE:3
DTSTAMP:20260423T041315Z
URL:https://greaterstillwaterchamber.com/events/details/dunrovin-retreat-center-open-house-36566
END:VEVENT

END:VCALENDAR
