BEGIN:VCALENDAR
VERSION:2.0
PRODID:-//ChamberMaster//Event Calendar 2.0//EN
METHOD:PUBLISH
X-PUBLISHED-TTL:P3D
REFRESH-INTERVAL:P3D
CALSCALE:GREGORIAN
BEGIN:VEVENT
DTSTART:20240723T230000Z
DTEND:20240724T020000Z
X-MICROSOFT-CDO-ALLDAYEVENT:FALSE
SUMMARY:Dunrovin Diamond Cruise
DESCRIPTION:Spiff up your dancing shoes and join Dunrovin for a fabulous Diamond Cruise on the Saint Croix River. We'll travel on the Avalon Stillwater River Boat out of downtown Stillwater. You will enjoy good food\, relax a bit\, and maybe even win a diamond tennis bracelet! Proceeds benefit our LEAD Youth Program\, where we train high school students as servant leaders for underserved youth. Cocktail attire encouraged.
X-ALT-DESC;FMTTYPE=text/html:<p style="text-align:center">Spiff up your dancing shoes and join Dunrovin for a fabulous Diamond Cruise on the Saint Croix River. We&rsquo\;ll travel on the Avalon&nbsp\;<a href="https://stillwaterriverboats.com/" style="box-sizing: inherit\; margin: 0px\; padding: 0px\; border: 0px\; font: inherit\; color: rgb(73\, 73\, 73)\; transition: all 0.2s ease-out 0s\;">Stillwater River Boat&nbsp\;</a>out of downtown Stillwater. You will enjoy good food\, relax a bit\, and maybe even win a diamond tennis bracelet! Proceeds benefit our LEAD Youth Program\, where we train high school students as servant leaders for underserved youth. Cocktail attire encouraged.</p>\n
LOCATION:On the Avalon Boat Stillwater River Boats 525 South Main Street Stillwater\, MN 55082
UID:e.257.37227
SEQUENCE:3
DTSTAMP:20260422T173057Z
URL:https://greaterstillwaterchamber.com/events/details/dunrovin-diamond-cruise-37227
END:VEVENT

END:VCALENDAR
