BEGIN:VCALENDAR
VERSION:2.0
PRODID:-//ChamberMaster//Event Calendar 2.0//EN
METHOD:PUBLISH
X-PUBLISHED-TTL:P3D
REFRESH-INTERVAL:P3D
CALSCALE:GREGORIAN
BEGIN:VEVENT
DTSTART:20230121T143000Z
DTEND:20230121T163000Z
X-MICROSOFT-CDO-ALLDAYEVENT:FALSE
SUMMARY:Developmental League Winter Session 2
DESCRIPTION:DEVELOPMENTAL LEAGUE\n\n\n\nFun and challenging program for players grades Kindergarten to Grade 3 who are ready for more of a game like experience.  This league focuses on foundational individual skills\, 1v1 development\, and small sided games. Space is limited and registration will close prior to first week
X-ALT-DESC;FMTTYPE=text/html:<div style="background:transparent\; border:0px\; padding:0px">\n<h1><span style="color:rgb(45\, 45\, 45)"><em><strong><span style="font-family:poppins-semibold\,poppins\,sans-serif">DEVELOPMENTAL LEAGUE</span></strong></em></span></h1>\n</div>\n\n<div style="background:transparent\; border:0px\; padding:0px">\n<p style="text-align:right"><span style="font-family:poppins-semibold\,poppins\,sans-serif\; font-size:20px">Fun and challenging program for players grades Kindergarten to Grade 3 who are ready for more of a game like experience. &nbsp\;This league focuses on foundational individual skills\, 1v1 development\, and small sided games. Space is limited and registration will close prior to first week</span></p>\n</div>\n
LOCATION:St Croix Valley Recreation Center
UID:e.257.35574
SEQUENCE:3
DTSTAMP:20260423T155431Z
URL:https://greaterstillwaterchamber.com/events/details/developmental-league-winter-session-2-01-21-2023-35574
END:VEVENT

END:VCALENDAR
