BEGIN:VCALENDAR
VERSION:2.0
PRODID:-//ChamberMaster//Event Calendar 2.0//EN
METHOD:PUBLISH
X-PUBLISHED-TTL:P3D
REFRESH-INTERVAL:P3D
CALSCALE:GREGORIAN
BEGIN:VEVENT
DTSTART:20240920T220000Z
DTEND:20240922T020000Z
X-MICROSOFT-CDO-ALLDAYEVENT:FALSE
SUMMARY:Derby Days
DESCRIPTION:The Bayport Community Action League and local businesses are hosting Derby Days September 20-21! Join us for FUN-filled days of events all across our lovely town of Bayport! Check out our schedule of events and spread the word to friends\, family\, + locals! Let's make this year's event the best one yet! For more details follow us and check out or website bayportcommunityactionleague.com! Looking to donate? The Bayport Community Action League and Derby Days relies on donations from our amazing community. If you enjoy our events year round please feel free to donate what you can. Every little bit counts. Visit our website and click donate! Looking to Volunteer? We would love to have you! Contact us at bcal55003@gmail.com
X-ALT-DESC;FMTTYPE=text/html:The Bayport Community Action League and local businesses are hosting Derby Days September 20-21! Join us for FUN-filled days of events all across our lovely town of Bayport! Check out our schedule of events and spread the word to friends\, family\, + locals! Let&#39\;s make this year&rsquo\;s event the best one yet! For more details follow us and check out or website bayportcommunityactionleague.com! Looking to donate? The Bayport Community Action League and Derby Days relies on donations from our amazing community. If you enjoy our events year round please feel free to donate what you can. Every little bit counts. Visit our website and click donate! Looking to Volunteer? We would love to have you! Contact us at bcal55003@gmail.com
LOCATION:Bayport\, Minnesota
UID:e.257.38672
SEQUENCE:3
DTSTAMP:20260422T192318Z
URL:https://greaterstillwaterchamber.com/events/details/derby-days-38672
END:VEVENT

END:VCALENDAR
