BEGIN:VCALENDAR
VERSION:2.0
PRODID:-//ChamberMaster//Event Calendar 2.0//EN
METHOD:PUBLISH
X-PUBLISHED-TTL:P3D
REFRESH-INTERVAL:P3D
CALSCALE:GREGORIAN
BEGIN:VEVENT
DTSTART:20240125T233000Z
DTEND:20240126T010000Z
X-MICROSOFT-CDO-ALLDAYEVENT:FALSE
SUMMARY:Create a Fitness Plan - 2 Part Series
DESCRIPTION:Struggling with your current fitness plan?  Not sure how to get started or what to do to see results?  Are you struggling with lack of motivation to exercise?  These are all great reasons to join Alissa who understands that making a sound fitness program is an important step in your fitness journey.   This includes 2 classes and you will leave with a sound plan to implement right away.
X-ALT-DESC;FMTTYPE=text/html:<span style="color:rgb(89\, 89\, 89)\; font-family:open sans\; font-size:16px">Struggling with your current fitness plan?&nbsp\; Not sure how to get started or what to do to see results?&nbsp\; Are you struggling with lack of motivation to exercise?&nbsp\; These are all great reasons to join Alissa who understands that making a sound fitness program is an important step in your fitness journey.&nbsp\; &nbsp\;This includes 2 classes and you will leave with a sound plan to implement right away. &nbsp\;</span>
LOCATION:Stronger Wellness and Nutrition 5805A Neal Ave N Stillwater\, MN. 55082 (by Kowalski's Market and Mainstream Boutique)
UID:e.257.37115
SEQUENCE:3
DTSTAMP:20260422T020540Z
URL:https://greaterstillwaterchamber.com/events/details/create-a-fitness-plan-2-part-series-37115
END:VEVENT

END:VCALENDAR
