BEGIN:VCALENDAR
VERSION:2.0
PRODID:-//ChamberMaster//Event Calendar 2.0//EN
METHOD:PUBLISH
X-PUBLISHED-TTL:P3D
REFRESH-INTERVAL:P3D
CALSCALE:GREGORIAN
BEGIN:VEVENT
DTSTART:20191207T160000Z
DTEND:20191207T200000Z
X-MICROSOFT-CDO-ALLDAYEVENT:FALSE
SUMMARY:Craft and Bake Sale
DESCRIPTION:Join us for a small craft and bake sale! This won't be a huge event\, the but vendors that will be here will be fabulous!
X-ALT-DESC;FMTTYPE=text/html:Join us for a small craft and bake sale! This won&#39\;t be a huge event\, the but vendors that will be here will be fabulous!
LOCATION:Oak Meadows Senior Living 8131 Fourth St N Oakdale\, MN 55128
UID:e.257.29984
SEQUENCE:3
DTSTAMP:20260422T060702Z
URL:https://greaterstillwaterchamber.com/events/details/craft-and-bake-sale-29984
END:VEVENT

END:VCALENDAR
