BEGIN:VCALENDAR
VERSION:2.0
PRODID:-//ChamberMaster//Event Calendar 2.0//EN
METHOD:PUBLISH
X-PUBLISHED-TTL:P3D
REFRESH-INTERVAL:P3D
CALSCALE:GREGORIAN
BEGIN:VEVENT
DTSTART:20250806T210000Z
DTEND:20250806T230000Z
X-MICROSOFT-CDO-ALLDAYEVENT:FALSE
SUMMARY:Cooking Class with Chef Paul
DESCRIPTION:Gather with Wildwood Kitchens and Baths as we watch a demonstration and sample food prepared by Chef Paul Mahoney!\n\nEach attendee will receive a free 1 hour consultation for one room in their home by one of the talented Wildwood designers.\n\nIn addition\, there will be a drawing for $500 off a Wildwood kitchen remodel.\n\nCost is $25 per person. Space is limited so sign up today!
X-ALT-DESC;FMTTYPE=text/html:<p>Gather with Wildwood Kitchens and Baths as we watch a demonstration and sample food prepared by Chef Paul Mahoney!</p>\n\n<p>Each attendee will receive a free 1 hour consultation for one room in their home by one of the talented Wildwood designers.</p>\n\n<p>In addition\, there will be a drawing for $500 off a Wildwood kitchen remodel.</p>\n\n<p>Cost is $25 per person. Space is limited so sign up today!</p>\n
LOCATION:12445 55th St N\, Suite A\, Lake Elmo\, MN 55042
UID:e.257.43891
SEQUENCE:3
DTSTAMP:20260422T024535Z
URL:https://greaterstillwaterchamber.com/events/details/cooking-class-with-chef-paul-43891
END:VEVENT

END:VCALENDAR
