BEGIN:VCALENDAR
VERSION:2.0
PRODID:-//ChamberMaster//Event Calendar 2.0//EN
METHOD:PUBLISH
X-PUBLISHED-TTL:P3D
REFRESH-INTERVAL:P3D
CALSCALE:GREGORIAN
BEGIN:VEVENT
DTSTART:20240315T234500Z
DTEND:20240316T020000Z
X-MICROSOFT-CDO-ALLDAYEVENT:FALSE
SUMMARY:Comedy Fish Fry
DESCRIPTION:Enjoy All You Can Eat Hand Beer Battered Cod Filets & downright Hilarious Comedy Show featuring City Pages 2016 People's Choice Award for Best Local Comic Headliner & Comedian\, Tiffany Norton\n\n \n\n6:45pm: Seating   7pm: Dinner\n\n7:30 9pm: Comedy Show\n\n\n\nComedy Dinner Menu\n\nAfton House Inn Caesar Salad\n\nCole Slaw\n\nBaked Beans\n\nStraight Cut French Fries\n\nBeer Battered Cod\n\n\n\nAll for just $39.95 per person (plus tax & gratuity)\n\nCALL 651-436-8883 For Reservations\n\nCash Bar Available
X-ALT-DESC;FMTTYPE=text/html:<div>Enjoy All You Can Eat Hand Beer Battered Cod Filets &amp\; downright Hilarious Comedy Show featuring City Pages 2016 People&rsquo\;s Choice Award for Best Local Comic Headliner &amp\; Comedian\, Tiffany Norton<br />\n&nbsp\;</div>\n\n<div>6:45pm: Seating &ndash\; 7pm: Dinner<br />\n7:30&ndash\;9pm: Comedy Show</div>\n\n<div><br />\nComedy Dinner Menu</div>\n\n<div>Afton House Inn Caesar Salad<br />\nCole Slaw<br />\nBaked Beans<br />\nStraight Cut French Fries<br />\nBeer Battered Cod<br />\n<br />\nAll for just $39.95 per person (plus tax &amp\; gratuity)</div>\n\n<div>CALL 651-436-8883 For Reservations</div>\n\n<div>Cash Bar Available</div>\n
LOCATION:The Afton House Inn 3291 St Croix Trail S Afton\, MN 55001
UID:e.257.37144
SEQUENCE:3
DTSTAMP:20260422T201320Z
URL:https://greaterstillwaterchamber.com/events/details/comedy-fish-fry-37144
END:VEVENT

END:VCALENDAR
