BEGIN:VCALENDAR
VERSION:2.0
PRODID:-//ChamberMaster//Event Calendar 2.0//EN
METHOD:PUBLISH
X-PUBLISHED-TTL:P3D
REFRESH-INTERVAL:P3D
CALSCALE:GREGORIAN
BEGIN:VEVENT
DTSTART:20250514T230000Z
DTEND:20250515T010000Z
X-MICROSOFT-CDO-ALLDAYEVENT:FALSE
SUMMARY:Cocktails & Candles
DESCRIPTION:During the unique event guests will make 3 cocktail themed candles to take home\, while sipping on expertly crafted cocktails. Guests will have the opportunity to learn how to mix these cocktails\, or simply sit back and enjoy the demonstrations. Small bites will also be provided.
X-ALT-DESC;FMTTYPE=text/html:During the unique event guests will make 3 cocktail themed candles to take home\, while sipping on expertly crafted cocktails. Guests will have the opportunity to learn how to mix these cocktails\, or simply sit back and enjoy the demonstrations. Small bites will also be provided.
LOCATION:The Stills at Hotel Crosby and Matchstick Restaurant and Spirits
UID:e.257.43211
SEQUENCE:3
DTSTAMP:20260422T073235Z
URL:https://greaterstillwaterchamber.com/events/details/cocktails-candles-43211
END:VEVENT

END:VCALENDAR
