BEGIN:VCALENDAR
VERSION:2.0
PRODID:-//ChamberMaster//Event Calendar 2.0//EN
METHOD:PUBLISH
X-PUBLISHED-TTL:P3D
REFRESH-INTERVAL:P3D
CALSCALE:GREGORIAN
BEGIN:VEVENT
DTSTART:20250520T233000Z
DTEND:20250521T010000Z
X-MICROSOFT-CDO-ALLDAYEVENT:FALSE
SUMMARY:Class: Mood and Brain Health
DESCRIPTION:Discover the powerful connection between food\, mood\, and brain health in our upcoming class. Learn about the essential nutrients that can enhance your sleep\, combat fatigue\, and manage stress effectively. We will explore how vital micronutrients support the production of mood-enhancing neurotransmitters like dopamine and serotonin. Join us to unlock the secrets of nourishing your mind and body for a\, healthier you!
X-ALT-DESC;FMTTYPE=text/html:<p><span style="color:rgb(85\, 83\, 83)\; font-family:open sans\,sans-serif\; font-size:14px">Discover the powerful connection between food\, mood\, and brain health in our upcoming class. Learn about the essential nutrients that can enhance your sleep\, combat fatigue\, and manage stress effectively. We will explore how vital micronutrients support the production of mood-enhancing neurotransmitters like dopamine and serotonin. Join us to unlock the secrets of nourishing your mind and body for a\, healthier you!&nbsp\;</span></p>\n
LOCATION:Stronger Wellness and Nutrition 5805A Neal Avenue North Stillwater\, MN 55082 (next to Kowalski's Stillwater)
UID:e.257.43387
SEQUENCE:3
DTSTAMP:20260422T073235Z
URL:https://greaterstillwaterchamber.com/events/details/class-mood-and-brain-health-43387
END:VEVENT

END:VCALENDAR
