BEGIN:VCALENDAR
VERSION:2.0
PRODID:-//ChamberMaster//Event Calendar 2.0//EN
METHOD:PUBLISH
X-PUBLISHED-TTL:P3D
REFRESH-INTERVAL:P3D
CALSCALE:GREGORIAN
BEGIN:VEVENT
DTSTART:20250311T233000Z
DTEND:20250312T010000Z
X-MICROSOFT-CDO-ALLDAYEVENT:FALSE
SUMMARY:Class: Improve Gut Health & Reduce Inflammation
DESCRIPTION:How does gut health relate to chronic inflammation in your body?  What about food sensitivities or or reducing bloating/constipation/diarrhea.  Even if we don't have obvious gut symptoms -  many times\, we can experience symptoms like congestion\, muscle & joint pain\, fatigue\, even anxiety.  These symptoms can actually be from UNHEALTHY gut microbiome (gut environment)  Join us to understand the link between gut health and inflammation\, and how to best support a HEALTHIER gut.
X-ALT-DESC;FMTTYPE=text/html:<p><span style="color:rgb(85\, 83\, 83)\; font-family:open sans\,sans-serif\; font-size:14px">How does gut health relate to chronic inflammation in your body?&nbsp\; What about food sensitivities or or reducing bloating/constipation/diarrhea.&nbsp\; Even if we don&#39\;t have obvious gut symptoms - &nbsp\;many times\, we can experience symptoms like congestion\, muscle &amp\; joint pain\, fatigue\, even anxiety.&nbsp\; These symptoms can actually be from UNHEALTHY gut microbiome (gut environment) &nbsp\;Join us to understand the link between gut health and inflammation\, and how to best support a HEALTHIER gut. &nbsp\;&nbsp\;</span></p>\n
LOCATION:Stronger Wellness and Nutrition 5805A Neal Avenue North Stillwater\, MN 55082 (next to Kowalski's Stillwater)
UID:e.257.38728
SEQUENCE:3
DTSTAMP:20260419T144205Z
URL:https://greaterstillwaterchamber.com/events/details/class-improve-gut-health-reduce-inflammation-38728
END:VEVENT

END:VCALENDAR
