BEGIN:VCALENDAR
VERSION:2.0
PRODID:-//ChamberMaster//Event Calendar 2.0//EN
METHOD:PUBLISH
X-PUBLISHED-TTL:P3D
REFRESH-INTERVAL:P3D
CALSCALE:GREGORIAN
BEGIN:VEVENT
DTSTART:20250617T233000Z
DTEND:20250618T010000Z
X-MICROSOFT-CDO-ALLDAYEVENT:FALSE
SUMMARY:Class: Hormone Nutrient Testing Guide for Metabolism and Balancing Hormones
DESCRIPTION:Discover how hormone\, gut\, and nutrient testing can be a game-changer for your health journey. At Stronger Wellness and Nutrition\, our experts are here to guide you through the various testing options available and explain how our services stand out from others online. Experience evidence-based\, personalized testing that is truly worth your time and investment. Let us help you take the first step a healthier you!
X-ALT-DESC;FMTTYPE=text/html:<p><span style="font-family:arial\,helvetica\,sans-serif"><span style="color:rgb(85\, 83\, 83)\; font-size:14px">Discover how hormone\, gut\, and nutrient testing can be a game-changer for your health journey. At Stronger Wellness and Nutrition\, our experts are here to guide you through the various testing options available and explain how our services stand out from others online. Experience evidence-based\, personalized testing that is truly worth your time and investment. Let us help you take the first step a healthier you!</span></span></p>\n
LOCATION:Stronger Wellness and Nutrition 5805A Neal Avenue North Stillwater\, MN 55082 (next to Kowalski's Stillwater)
UID:e.257.43388
SEQUENCE:3
DTSTAMP:20260422T060702Z
URL:https://greaterstillwaterchamber.com/events/details/class-hormone-nutrient-testing-guide-for-metabolism-and-balancing-hormones-43388
END:VEVENT

END:VCALENDAR
