BEGIN:VCALENDAR
VERSION:2.0
PRODID:-//ChamberMaster//Event Calendar 2.0//EN
METHOD:PUBLISH
X-PUBLISHED-TTL:P3D
REFRESH-INTERVAL:P3D
CALSCALE:GREGORIAN
BEGIN:VEVENT
DTSTART:20241208T020000Z
DTEND:20241208T040000Z
X-MICROSOFT-CDO-ALLDAYEVENT:FALSE
SUMMARY:Christmas with the Valley Chamber Chorale
DESCRIPTION:It just isn't Christmas until you hear us sing!\n\nWe are delighted to welcome you back to Christmas at the Courthouse with the Valley Chamber Chorale during this\, our 50th anniversary season.\n\n\n\nDuring this holiday season we are reminded of and acknowledge the many traditions and celebrations that friends and family hold dear. This year's "Christmas at the Courthouse" features the variety and breadth of holiday music for which the VCC is known. From beloved melodies and seasonal tunes to new carols or traditional carols with a new twist\, there is something for everyone to enjoy and discover.
X-ALT-DESC;FMTTYPE=text/html:It just isn&rsquo\;t Christmas until you hear us sing!<br />\nWe are delighted to welcome you back to Christmas at the Courthouse with the Valley Chamber Chorale during this\, our 50th anniversary season.<br />\n<br />\nDuring this holiday season we are reminded of and acknowledge the many&nbsp\;traditions and celebrations that friends and family hold dear. This year&rsquo\;s &ldquo\;Christmas at the Courthouse&rdquo\; features the variety and breadth of holiday music for which the VCC is known. From beloved melodies and seasonal tunes to new carols or traditional carols with a new twist\, there is something for everyone to enjoy and discover.
LOCATION:Washington County Historic Courthouse 101 Pine St W\, Stillwater\, MN 55082
UID:e.257.38687
SEQUENCE:3
DTSTAMP:20260422T184848Z
URL:https://greaterstillwaterchamber.com/events/details/christmas-with-the-valley-chamber-chorale-38687
END:VEVENT

END:VCALENDAR
