BEGIN:VCALENDAR
VERSION:2.0
PRODID:-//ChamberMaster//Event Calendar 2.0//EN
METHOD:PUBLISH
X-PUBLISHED-TTL:P3D
REFRESH-INTERVAL:P3D
CALSCALE:GREGORIAN
BEGIN:VEVENT
DTSTART;VALUE=DATE:20231224
DTEND;VALUE=DATE:20231225
TRANSP:TRANSPARENT
X-MICROSOFT-CDO-ALLDAYEVENT:TRUE
SUMMARY:Christmas Eve Early Services
DESCRIPTION:Join us on Christmas Eve to celebrate the birth of Christ!\n\nWe offer two services:\n\n\n\nEarly Christmas Eve | 3 pm\n\ncarols\, candlelight\, readings\, special music\n\n\n\nLate Christmas Eve | 10 pm \n\ncarols\, candlelight\, readings\, choral music
X-ALT-DESC;FMTTYPE=text/html:<p>Join us on Christmas Eve to celebrate the birth of Christ!</p>\n\n<p>We offer two services:<br />\n<br />\n<strong>Early Christmas Eve</strong> | 3 pm<br />\ncarols\, candlelight\, readings\, special music<br />\n<br />\n<strong>Late Christmas Eve</strong> | 10 pm&nbsp\;<br />\ncarols\, candlelight\, readings\, choral music</p>\n
LOCATION:St. Croix United Church (formerly People's Congregational Church) 309 N. Third St Bayport\, MN 55003
UID:e.257.36670
SEQUENCE:3
DTSTAMP:20260423T003118Z
URL:https://greaterstillwaterchamber.com/events/details/christmas-eve-early-services-36670
END:VEVENT

END:VCALENDAR
