BEGIN:VCALENDAR
VERSION:2.0
PRODID:-//ChamberMaster//Event Calendar 2.0//EN
METHOD:PUBLISH
X-PUBLISHED-TTL:P3D
REFRESH-INTERVAL:P3D
CALSCALE:GREGORIAN
BEGIN:VEVENT
DTSTART:20231223T170000Z
DTEND:20231223T220000Z
X-MICROSOFT-CDO-ALLDAYEVENT:FALSE
SUMMARY:Christmas Dinner To Go
DESCRIPTION:Christmas Dinner To Go!\n\n\n\nOrder by 12/22/2023\n\nPick up 12/23/202311AM-4PM\n\n\n\n2022 Menu-2023 menu will be posted at a later date\n\nBeef Bordelaise\n\nCheddar Au Gratin Potatoes\n\nBacon Brussel Sprouts\n\nSage Stuffing\n\nHoliday Salad (Craisins\, Feta Cheese\, Candied Pecans\, Poppy Seed Dressing)\n\nDinner Rolls\n\nPecan\, or Apple Pie\n\n\n\nReheat instructions included\n\nVisit www.aftonhouseinn.com for add on options\n\n\n\nCall 651-436-8883 to order
X-ALT-DESC;FMTTYPE=text/html:<span style="color:#333333"><span style="font-family:arial\,sans-serif"><span style="font-size:10.0pt">Christmas Dinner To Go!</span></span></span><br />\n<br />\n<span style="color:#333333"><span style="font-family:arial\,sans-serif"><span style="font-size:10.0pt">Order by 12/22/2023<br />\nPick up 12/23/202311AM-4PM<br />\n<br />\n2022 Menu-2023 menu will be posted at a later date<br />\nBeef Bordelaise<br />\nCheddar Au Gratin Potatoes<br />\nBacon Brussel Sprouts<br />\nSage Stuffing<br />\nHoliday Salad (Craisins\, Feta Cheese\, Candied Pecans\, Poppy Seed Dressing)<br />\nDinner Rolls<br />\nPecan\, or Apple Pie<br />\n<br />\nReheat instructions included<br />\nVisit www.aftonhouseinn.com for add on options<br />\n<br />\nCall 651-436-8883 to order</span></span></span>
LOCATION:Afton House Inn 3291 St. Croix Trail S. Afton\, MN 55001
UID:e.257.32389
SEQUENCE:3
DTSTAMP:20260423T003016Z
URL:https://greaterstillwaterchamber.com/events/details/christmas-dinner-to-go-32389
END:VEVENT

END:VCALENDAR
